Felt | Verdi |
AlreadyApplied | True |
Aperture | 4.5 |
ApertureValue | 4.5 |
ApproximateFocusDistance | 0.5 |
AutoLateralCA | 0 |
BitsPerSample (1) | 8 8 8 |
BitsPerSample | 8 |
Blacks2012 | -64 |
BlueHue | 0 |
BlueSaturation | 0 |
CameraProfile | Embedded |
CFAPattern | [Red,Green][Green,Blue] |
CircleOfConfusion | 0.020 mm |
Clarity2012 | +79 |
ColorComponents | 3 |
ColorMode | RGB |
ColorNoiseReduction | 0 |
ColorSpace | sRGB |
ColorTransform | YCbCr |
Contrast | Normal |
Contrast2012 | 0 |
ConvertToGrayscale | False |
CreateDate | 2013:06:14 20:39:01 |
CreatorTool | Adobe Photoshop Lightroom 5.0 (Windows) |
CropAngle | 0 |
CropBottom | 0.912078 |
CropConstrainToWarp | 0 |
CropLeft | 0.12549 |
CropRight | 0.984314 |
CropTop | 0.053254 |
CustomRendered | Normal |
DateCreated (1) | 2013:06:14 |
DateCreated | 2013:06:14 20:39:01.001 |
DateTimeOriginal | 2013:06:14 20:39:01 |
DefringeGreenAmount | 0 |
DefringeGreenHueHi | 60 |
DefringeGreenHueLo | 40 |
DefringePurpleAmount | 0 |
DefringePurpleHueHi | 70 |
DefringePurpleHueLo | 30 |
DigitalZoomRatio | 1 |
DOF | 0.06 m (0.47 - 0.53 m) |
ExifImageHeight | 3174 |
ExifImageWidth | 2102 |
Exposure2012 | 0.00 |
ExposureCompensation | 0 |
ExposureMode | Manual |
ExposureProgram | Manual |
ExposureTime | 1/160 |
Flash | Off, Did not fire |
FNumber | 4.5 |
FocalLength | 26.0 mm |
FocalLength35efl | 26.0 mm (35 mm equivalent: 39.0 mm) |
FocalLengthIn35mmFormat | 39 mm |
Format | image/jpeg |
FOV | 49.6 deg |
GainControl | Low gain up |
GrainAmount | 0 |
GreenHue | 0 |
GreenSaturation | 0 |
HasCrop | True |
HasExtendedXMP | 60CC4E9F8FAEFB09CEEE00258009BDC9 |
HasSettings | True |
Highlights2012 | -24 |
HueAdjustmentAqua | 0 |
HueAdjustmentBlue | 0 |
HueAdjustmentGreen | 0 |
HueAdjustmentMagenta | 0 |
HueAdjustmentOrange | 0 |
HueAdjustmentPurple | 0 |
HueAdjustmentRed | 0 |
HueAdjustmentYellow | 0 |
HyperfocalDistance | 7.50 m |
ICCProfileName | sRGB IEC61966-2.1 |
ImageHeight | 3174 |
ImageNumber | 39224 |
ImageSize | 2102x3174 |
ImageWidth | 2102 |
IncrementalTemperature | 0 |
IncrementalTint | 0 |
ISO | 500 |
Lens | 18.0-105.0 mm f/3.5-5.6 |
LensID (1) | 158 |
LensID | AF-S DX VR Zoom-Nikkor 18-105mm f/3.5-5.6G ED |
LensInfo | 18-105mm f/3.5-5.6 |
LensManualDistortionAmount | 0 |
LensModel | 18.0-105.0 mm f/3.5-5.6 |
LensProfileEnable | 0 |
LensProfileSetup | LensDefaults |
LightSource | Unknown |
LightValue | 9.3 |
LuminanceAdjustmentAqua | 0 |
LuminanceAdjustmentBlue | 0 |
LuminanceAdjustmentGreen | 0 |
LuminanceAdjustmentMagenta | 0 |
LuminanceAdjustmentOrange | 0 |
LuminanceAdjustmentPurple | 0 |
LuminanceAdjustmentRed | 0 |
LuminanceAdjustmentYellow | 0 |
LuminanceNoiseReductionContrast | 0 |
LuminanceNoiseReductionDetail | 50 |
LuminanceSmoothing | 20 |
Make | NIKON CORPORATION |
MaxApertureValue | 4.0 |
Megapixels | 6.7 |
MeteringMode | Spot |
Model | NIKON D7000 |
ModifyDate (1) | 2014:06:23 13:17:41+02:00 |
ModifyDate | 2014:06:23 13:17:41 |
Orientation | Horizontal (normal) |
PaintCorrectionActive | true |
PaintCorrectionAmount | 1.000000 |
PaintCorrectionBrightness | 0.000000 |
PaintCorrectionClarity2012 (10) | 0.309520 |
PaintCorrectionClarity2012 (3) | 0.500000 |
PaintCorrectionClarity2012 (5) | 0.333330 |
PaintCorrectionClarity2012 (7) | 0.452380 |
PaintCorrectionClarity2012 | 0.000000 |
PaintCorrectionContrast2012 (9) | 1.000000 |
PaintCorrectionContrast2012 | 0.333330 |
PaintCorrectionDefringe | 0.000000 |
PaintCorrectionExposure2012 (1) | 0.214250 |
PaintCorrectionExposure2012 (2) | -0.166750 |
PaintCorrectionExposure2012 (3) | -0.309500 |
PaintCorrectionExposure2012 (4) | 0.095250 |
PaintCorrectionExposure2012 (5) | 0.000000 |
PaintCorrectionExposure2012 (8) | -0.119000 |
PaintCorrectionExposure2012 (9) | -1.000000 |
PaintCorrectionExposure2012 | -0.011500 |
PaintCorrectionHighlights2012 (9) | -1.000000 |
PaintCorrectionHighlights2012 | 0.000000 |
PaintCorrectionHue | 0.000000 |
PaintCorrectionLuminanceNoise | 0.000000 |
PaintCorrectionMaskCenterWeight | 0.000000 |
PaintCorrectionMaskFlow (37) | 1.000000 |
PaintCorrectionMaskFlow | 0.978000 |
PaintCorrectionMaskRadius (10) | 0.104516 |
PaintCorrectionMaskRadius (22) | 0.041220 |
PaintCorrectionMaskRadius (37) | 0.043776 |
PaintCorrectionMaskRadius (44) | 0.005323 |
PaintCorrectionMaskRadius | 0.022084 |
PaintCorrectionMaskValue (38) | 0.000000 |
PaintCorrectionMaskValue | 0.472000 |
PaintCorrectionMaskWhat | Mask/Paint |
PaintCorrectionMoire | 0.000000 |
PaintCorrectionSaturation (13) | 0.690480 |
PaintCorrectionSaturation (19) | 0.261900 |
PaintCorrectionSaturation (7) | 0.500000 |
PaintCorrectionSaturation | 0.000000 |
PaintCorrectionShadows2012 (9) | -1.000000 |
PaintCorrectionShadows2012 | -0.034480 |
PaintCorrectionSharpness | 0.000000 |
PaintCorrectionTemperature (7) | 0.190480 |
PaintCorrectionTemperature | 0.000000 |
PaintCorrectionTint | 0.000000 |
PaintCorrectionWhat | Correction |
ParametricDarks | 0 |
ParametricHighlights | 0 |
ParametricHighlightSplit | 75 |
ParametricLights | 0 |
ParametricMidtoneSplit | 50 |
ParametricShadows | -11 |
ParametricShadowSplit | 25 |
PerspectiveAspect | 0 |
PerspectiveHorizontal | 0 |
PerspectiveRotate | 0.0 |
PerspectiveScale | 100 |
PerspectiveUpright | 0 |
PerspectiveVertical | 0 |
PhotometricInterpretation | RGB |
PostCropVignetteAmount | -24 |
PostCropVignetteFeather | 64 |
PostCropVignetteHighlightContrast | 0 |
PostCropVignetteMidpoint | 51 |
PostCropVignetteRoundness | +100 |
PostCropVignetteStyle | 1 |
ProcessVersion | 6.7 |
ProfileDescription | sRGB IEC61966-2.1 |
RedHue | 0 |
RedSaturation | 0 |
SamplesPerPixel | 3 |
Saturation (1) | -43 |
Saturation | Normal |
SaturationAdjustmentAqua | 0 |
SaturationAdjustmentBlue | 0 |
SaturationAdjustmentGreen | 0 |
SaturationAdjustmentMagenta | 0 |
SaturationAdjustmentOrange | +58 |
SaturationAdjustmentPurple | 0 |
SaturationAdjustmentRed | 0 |
SaturationAdjustmentYellow | 0 |
ScaleFactor35efl | 1.5 |
SceneCaptureType | Standard |
SceneType | Directly photographed |
SensingMethod | One-chip color area |
SensitivityType | Recommended Exposure Index |
SerialNumber | 6004424 |
Shadows2012 | -55 |
ShadowTint | 0 |
SharpenDetail | 48 |
SharpenEdgeMasking | 50 |
SharpenRadius | +1.8 |
Sharpness (1) | 86 |
Sharpness | Normal |
ShutterSpeed | 1/160 |
ShutterSpeedValue | 1/160 |
Software | Adobe Photoshop CS6 (Windows) |
SplitToningBalance | 0 |
SplitToningHighlightHue | 219 |
SplitToningHighlightSaturation | 12 |
SplitToningShadowHue | 201 |
SplitToningShadowSaturation | 24 |
SubjectDistanceRange | Unknown |
ToneCurveName2012 | Linear |
ToneCurvePV2012 | 0, 0, 255, 255 |
ToneCurvePV2012Blue | 0, 0, 255, 255 |
ToneCurvePV2012Green | 0, 0, 255, 255 |
ToneCurvePV2012Red | 0, 0, 255, 255 |
URL_List | |
Version | 8.1 |
Vibrance | 0 |
VignetteAmount | 0 |
WhiteBalance (1) | As Shot |
WhiteBalance | Auto |
Whites2012 | +38 |