Felt | Verdi |
AlreadyApplied | True |
Aperture | 22.0 |
ApertureValue | 22.0 |
Artist | Vidar M. Jacobsen |
BitsPerSample | 8 |
BlueHue | 0 |
BlueSaturation | 0 |
Brightness | +50 |
BrightnessValue | 9.87 |
By-line | Vidar M. Jacobsen |
CameraProfile | Adobe Standard |
CameraSerialNumber | 2125849 |
ChromaticAberrationB | 0 |
ChromaticAberrationR | 0 |
CircleOfConfusion | 0.020 mm |
Clarity | -11 |
ColorComponents | 3 |
ColorMode | RGB |
ColorNoiseReduction | 55 |
ColorNoiseReductionDetail | 50 |
ColorSpace | sRGB |
ColorTemperature | 5500 |
ColorTransform | YCbCr |
Contrast (2) | +78 |
Contrast | Normal |
ConvertToGrayscale | False |
Copyright | Vidar M. Jacobsen |
CopyrightNotice | Vidar M. Jacobsen |
CreateDate (1) | 2017:10:12 17:43:45+02:00 |
CreateDate | 2017:10:12 17:43:45 |
Creator | Vidar M. Jacobsen |
CreatorTool | DSLR-A300 v1.00 |
CustomRendered | Normal |
DateAcquired | 2017:10:16 07:37:39.268 |
DateTimeDigitized | 2017:10:12 17:43:45+02:00 |
DateTimeOriginal (1) | 2017:10:12 17:43:45+02:00 |
DateTimeOriginal | 2017:10:12 17:43:45 |
Defringe | 0 |
ExifImageHeight | 2592 |
ExifImageWidth | 3872 |
Exposure | 0.00 |
ExposureCompensation | 0 |
ExposureMode | Manual |
ExposureProgram | Manual |
ExposureTime | 1/500 |
FillLight | 6 |
Flash | Off, Did not fire |
FlashFired | False |
FlashFunction | False |
FlashMode | Off |
FlashRedEyeMode | False |
FlashReturn | No return detection |
FNumber | 22.0 |
FocalLength | 28.0 mm |
FocalLength35efl | 28.0 mm (35 mm equivalent: 42.0 mm) |
FocalLengthIn35mmFormat | 42 mm |
Format | image/jpeg |
FOV | 46.4 deg |
GrainAmount | 0 |
GreenHue | 0 |
GreenSaturation | 0 |
HasCrop | False |
HasSettings | True |
HighlightRecovery | 0 |
HueAdjustmentAqua | 0 |
HueAdjustmentBlue | 0 |
HueAdjustmentGreen | 0 |
HueAdjustmentMagenta | 0 |
HueAdjustmentOrange | 0 |
HueAdjustmentPurple | 0 |
HueAdjustmentRed | 0 |
HueAdjustmentYellow | 0 |
HyperfocalDistance | 1.78 m |
ICCProfileName | sRGB IEC61966-2.1 |
ImageHeight | 2592 |
ImageSize | 3872x2592 |
ImageWidth | 3872 |
ISO | 400 |
Keywords | Sandvika, Bærum, Solnedgang |
LastKeywordIPTC | Sandvika, Bærum, Solnedgang |
LastKeywordXMP | Sandvika, Bærum, Solnedgang |
Lens | DT 18-55mm F3.5-5.6 SAM |
LensID (1) | 55 |
LensID | Sony DT 18-55mm F3.5-5.6 SAM (SAL1855) or Sony DT 18-55mm F3.5-5.6 SAM II (SAL18552) |
LensInfo | 18-55mm f/35-56 |
LensManualDistortionAmount | 0 |
LensManufacturer | Sony |
LensModel | DT 18-55mm |
LensProfileEnable | 0 |
LensProfileSetup | LensDefaults |
LightSource | Unknown |
LightValue | 15.9 |
LuminanceAdjustmentAqua | 0 |
LuminanceAdjustmentBlue | 0 |
LuminanceAdjustmentGreen | 0 |
LuminanceAdjustmentMagenta | 0 |
LuminanceAdjustmentOrange | 0 |
LuminanceAdjustmentPurple | 0 |
LuminanceAdjustmentRed | 0 |
LuminanceAdjustmentYellow | 0 |
LuminanceNoiseReductionContrast | 0 |
LuminanceNoiseReductionDetail | 50 |
LuminanceSmoothing | 49 |
Make | SONY |
MaxApertureValue | 4.5 |
Megapixels | 10.0 |
MeteringMode | Multi-segment |
Model | DSLR-A300 |
ModifyDate (1) | 2017:10:16 07:16:43+02:00 |
ModifyDate | 2017:10:16 07:16:43 |
Orientation | Horizontal (normal) |
ParametricDarks | 0 |
ParametricHighlights | 0 |
ParametricHighlightSplit | 75 |
ParametricLights | 0 |
ParametricMidtoneSplit | 50 |
ParametricShadows | 0 |
ParametricShadowSplit | 25 |
PerspectiveHorizontal | 0 |
PerspectiveRotate | 0.0 |
PerspectiveScale | 100 |
PerspectiveVertical | 0 |
PostCropVignetteAmount | 0 |
ProcessVersion | 5.7 |
ProfileDescription | sRGB IEC61966-2.1 |
Rating | 0 |
RawFileName | Sony K017 846 N.Skaugumåsen.ARW |
RedHue | 0 |
RedSaturation | 0 |
Rights | Vidar M. Jacobsen |
Saturation (2) | +18 |
Saturation | Normal |
SaturationAdjustmentAqua | 0 |
SaturationAdjustmentBlue | 0 |
SaturationAdjustmentGreen | 0 |
SaturationAdjustmentMagenta | 0 |
SaturationAdjustmentOrange | 0 |
SaturationAdjustmentPurple | 0 |
SaturationAdjustmentRed | 0 |
SaturationAdjustmentYellow | 0 |
ScaleFactor35efl | 1.5 |
SceneCaptureType | Standard |
SceneType | Directly photographed |
Shadows | 6 |
ShadowTint | 0 |
SharpenDetail | 41 |
SharpenEdgeMasking | 52 |
SharpenRadius | +1.7 |
Sharpness (2) | 57 |
Sharpness | Normal |
ShutterSpeed | 1/500 |
ShutterSpeedValue | 1/500 |
SidecarForExtension | ARW |
Software | Adobe Photoshop Elements 9.0 Windows |
SplitToningBalance | 0 |
SplitToningHighlightHue | 0 |
SplitToningHighlightSaturation | 0 |
SplitToningShadowHue | 0 |
SplitToningShadowSaturation | 0 |
Subject | Sandvika, Bærum, Solnedgang |
Tint | +10 |
ToneCurve | 0, 0, 32, 22, 64, 56, 128, 128, 192, 196, 255, 255 |
ToneCurveName | Medium Contrast |
URL_List | |
Version | 6.1 |
Vibrance | +79 |
VignetteAmount | 0 |
WhiteBalance (2) | Daylight |
WhiteBalance | Auto |
XPAuthor | Vidar M. Jacobsen |
XPKeywords | Sandvika;Bærum;Solnedgang |