Felt | Verdi |
AlreadyApplied | True |
Aperture | 1.8 |
ApertureValue | 1.8 |
AutoLateralCA | 1 |
BitsPerSample | 8 |
Blacks2012 | -20 |
BlueHue | 0 |
BlueSaturation | 0 |
BrightnessValue | 10.47 |
CameraProfile | Embedded |
CircleOfConfusion | 0.008 mm |
Clarity | +33 |
Clarity2012 | +18 |
ColorComponents | 3 |
ColorGradeBlending | 50 |
ColorGradeGlobalHue | 0 |
ColorGradeGlobalLum | 0 |
ColorGradeGlobalSat | 0 |
ColorGradeHighlightLum | 0 |
ColorGradeMidtoneHue | 0 |
ColorGradeMidtoneLum | 0 |
ColorGradeMidtoneSat | 0 |
ColorGradeShadowLum | 0 |
ColorNoiseReduction | 25 |
ColorNoiseReductionDetail | 50 |
ColorNoiseReductionSmoothness | 50 |
ColorSpace | sRGB |
ColorTransform | YCbCr |
CompatibleVersion | 234881024 |
Contrast2012 | +16 |
ConvertToGrayscale | False |
CreateDate | 2022:07:30 14:34:20 |
CreatorTool | Adobe Photoshop Lightroom Classic 12.0.1 (Windows) |
CropAngle | 0.896635 |
CropBottom | 0.933934 |
CropConstrainToWarp | 0 |
CropLeft | 0.013549 |
CropRight | 0.963818 |
CropTop | 0.069639 |
DateCreated (1) | 2022:07:30 |
DateCreated | 2022:07:30 14:34:20+02:00 |
DateTimeOriginal | 2022:07:30 14:34:20 |
DefringeGreenAmount | 0 |
DefringeGreenHueHi | 60 |
DefringeGreenHueLo | 40 |
DefringePurpleAmount | 0 |
DefringePurpleHueHi | 70 |
DefringePurpleHueLo | 30 |
Dehaze | +10 |
DigitalZoomRatio | 1 |
Exposure2012 | +0.09 |
ExposureCompensation | 0 |
ExposureMode | Auto |
ExposureProgram | Program AE |
ExposureTime | 1/2100 |
Flash | No Flash |
FNumber | 1.8 |
FocalLength | 6.4 mm |
FocalLength35efl | 6.4 mm (35 mm equivalent: 23.0 mm) |
FocalLengthIn35mmFormat | 23 mm |
Format | image/jpeg |
FOV | 76.1 deg |
GrainAmount | 0 |
GreenHue | 0 |
GreenSaturation | 0 |
HasCrop | True |
HasSettings | True |
Highlights2012 | -24 |
HueAdjustmentAqua | 0 |
HueAdjustmentBlue | 0 |
HueAdjustmentGreen | 0 |
HueAdjustmentMagenta | 0 |
HueAdjustmentOrange | 0 |
HueAdjustmentPurple | 0 |
HueAdjustmentRed | 0 |
HueAdjustmentYellow | 0 |
HyperfocalDistance | 2.72 m |
ImageHeight | 1200 |
ImageSize | 1820x1200 |
ImageWidth | 1820 |
IncrementalTemperature | +4 |
IncrementalTint | 0 |
ISO | 50 |
LateralChromaticAberrationCorrectionAlreadyApplied | True |
Lens | Samsung Galaxy S22 Ultra Rear Wide Camera |
LensManualDistortionAmount | 0 |
LensModel | Samsung Galaxy S22 Ultra Rear Wide Camera |
LensProfileEnable | 0 |
LightValue | 13.7 |
LuminanceAdjustmentAqua | 0 |
LuminanceAdjustmentBlue | 0 |
LuminanceAdjustmentGreen | 0 |
LuminanceAdjustmentMagenta | 0 |
LuminanceAdjustmentOrange | 0 |
LuminanceAdjustmentPurple | 0 |
LuminanceAdjustmentRed | 0 |
LuminanceAdjustmentYellow | 0 |
LuminanceNoiseReductionContrast | 5 |
LuminanceNoiseReductionDetail | 50 |
LuminanceSmoothing | 10 |
Make | samsung |
MaxApertureValue | 1.8 |
Megapixels | 2.2 |
MeteringMode | Center-weighted average |
Model | SM-S908B |
ModifyDate (1) | 2022:11:02 16:23:00+01:00 |
ModifyDate | 2022:11:02 16:23:00 |
OverrideLookVignette | True |
ParametricDarks | 0 |
ParametricHighlights | 0 |
ParametricHighlightSplit | 75 |
ParametricLights | 0 |
ParametricMidtoneSplit | 50 |
ParametricShadows | 0 |
ParametricShadowSplit | 25 |
PerspectiveAspect | 0 |
PerspectiveHorizontal | 0 |
PerspectiveRotate | 0.0 |
PerspectiveScale | 100 |
PerspectiveUpright | 0 |
PerspectiveVertical | 0 |
PerspectiveX | 0.00 |
PerspectiveY | 0.00 |
PostCropVignetteAmount | -9 |
PostCropVignetteFeather | 50 |
PostCropVignetteHighlightContrast | 0 |
PostCropVignetteMidpoint | 47 |
PostCropVignetteRoundness | 0 |
PostCropVignetteStyle | 1 |
PreservedFileName | 20220730_143420.jpg |
ProcessVersion | 11.0 |
ProfileDescription | sRGB IEC61966-2.1 |
RawFileName | 20220730_143420.jpg |
RedHue | 0 |
RedSaturation | 0 |
Saturation | +10 |
SaturationAdjustmentAqua | 0 |
SaturationAdjustmentBlue | 0 |
SaturationAdjustmentGreen | 0 |
SaturationAdjustmentMagenta | 0 |
SaturationAdjustmentOrange | +30 |
SaturationAdjustmentPurple | 0 |
SaturationAdjustmentRed | +30 |
SaturationAdjustmentYellow | +10 |
ScaleFactor35efl | 3.6 |
SceneCaptureType | Standard |
Shadows2012 | +38 |
ShadowTint | 0 |
SharpenDetail | 25 |
SharpenEdgeMasking | 12 |
SharpenRadius | +1.0 |
Sharpness | 39 |
ShutterSpeed | 1/2100 |
ShutterSpeedValue | 1/2100 |
Software | Adobe Photoshop Lightroom Classic 12.0.1 (Windows) |
SplitToningBalance | 0 |
SplitToningHighlightHue | 0 |
SplitToningHighlightSaturation | 0 |
SplitToningShadowHue | 0 |
SplitToningShadowSaturation | 0 |
Texture | -11 |
ToneCurveName2012 | Linear |
ToneCurvePV2012 | 0, 0, 255, 255 |
ToneCurvePV2012Blue | 0, 0, 255, 255 |
ToneCurvePV2012Green | 0, 0, 255, 255 |
ToneCurvePV2012Red | 0, 0, 255, 255 |
Version | 15.0 |
Vibrance | +38 |
VignetteAmount | 0 |
WhiteBalance (1) | Custom |
WhiteBalance | Auto |
Whites2012 | +4 |