Felt | Verdi |
AlreadyApplied | True |
Aperture | 8.0 |
ApertureValue | 8.0 |
Artist | KJELL-VIKESTAD |
AutoLateralCA | 1 |
BitsPerSample | 8 |
Blacks2012 | 0 |
BlueHue | 0 |
BlueSaturation | 0 |
BrightnessValue | 8.3 |
By-line | KJELL-VIKESTAD |
CameraElevationAngle | 7.9 |
CameraProfile | Adobe Standard |
CameraProfilesApertureValue | 6 |
CameraProfilesAuthor | Adobe |
CameraProfilesAutoScale | False |
CameraProfilesCameraPrettyName | Fujifilm X-T5 |
CameraProfilesCameraRawProfile | True |
CameraProfilesFocalLength | 16 |
CameraProfilesFocusDistance | 10000 |
CameraProfilesLens | XF16-80mmF4 R OIS WR |
CameraProfilesLensPrettyName | XF16-80mmF4 R OIS WR |
CameraProfilesMake | FUJIFILM |
CameraProfilesModel | X-T5 |
CameraProfilesPerspectiveModelImageXCenter | 0.500518 |
CameraProfilesPerspectiveModelImageYCenter | 0.5 |
CameraProfilesPerspectiveModelRadialDistortParam1 | -0.154786 |
CameraProfilesPerspectiveModelRadialDistortParam2 | 0.029667 |
CameraProfilesPerspectiveModelRadialDistortParam3 | 0.023201 |
CameraProfilesPerspectiveModelScaleFactor | 1.035989 |
CameraProfilesPerspectiveModelVersion | 2 |
CameraProfilesPerspectiveModelVignetteModelImageXCenter | 0.500259 |
CameraProfilesPerspectiveModelVignetteModelImageYCenter | 0.5 |
CameraProfilesPerspectiveModelVignetteModelVignetteModelParam1 | 1 |
CameraProfilesPerspectiveModelVignetteModelVignetteModelPiecewiseParam | 0.000000, 1.000000, 0.310508, 0.965127, 0.439165, 0.937295, 0.538132, 0.906191, 0.621016, 0.874839, 0.694623, 0.823809, 0.760807, 0.764746, 0.821424, 0.713833, 0.878330, 0.627446, 0.931524, 0.627446 |
CameraProfilesProfileName | Camera Settings |
CameraProfilesSensorFormatFactor | 1.539063 |
CameraProfilesUniqueCameraModel | Fujifilm X-T5 |
CircleOfConfusion | 0.020 mm |
Clarity2012 | -25 |
ColorComponents | 3 |
ColorGradeBlending | 50 |
ColorGradeGlobalHue | 0 |
ColorGradeGlobalLum | 0 |
ColorGradeGlobalSat | 0 |
ColorGradeHighlightLum | 0 |
ColorGradeMidtoneHue | 0 |
ColorGradeMidtoneLum | 0 |
ColorGradeMidtoneSat | 0 |
ColorGradeShadowLum | 0 |
ColorMode | RGB |
ColorNoiseReduction | 25 |
ColorNoiseReductionDetail | 50 |
ColorNoiseReductionSmoothness | 50 |
ColorSpace | Uncalibrated |
ColorTemperature | 4700 |
ColorTransform | YCbCr |
CompatibleVersion | 251658240 |
Contrast2012 | +20 |
Copyright | KJELL-VIKESTAD |
CopyrightNotice | KJELL-VIKESTAD |
CreateDate | 2023:12:03 09:55:27 |
Creator | KJELL-VIKESTAD |
CreatorTool | Digital Camera X-T5 Ver2.03 |
CustomRendered | Normal |
DateCreated (1) | 2023:12:03 |
DateCreated | 2023:12:03 09:55:27+01:00 |
DateTimeOriginal | 2023:12:03 09:55:27 |
DefringeGreenAmount | 0 |
DefringeGreenHueHi | 60 |
DefringeGreenHueLo | 40 |
DefringePurpleAmount | 0 |
DefringePurpleHueHi | 70 |
DefringePurpleHueLo | 30 |
Dehaze | +30 |
DistortionCorrectionAlreadyApplied | True |
ExifImageHeight | 5052 |
ExifImageWidth | 7577 |
Exposure2012 | +1.00 |
ExposureCompensation | -1 |
ExposureMode | Auto bracket |
ExposureProgram | Aperture-priority AE |
ExposureTime | 1/160 |
Flash | No Flash |
FNumber | 8.0 |
FocalLength | 16.0 mm |
FocalLength35efl | 16.0 mm (35 mm equivalent: 24.0 mm) |
FocalLengthIn35mmFormat | 24 mm |
Format | image/jpeg |
FOV | 73.7 deg |
FujiRatingAlreadyApplied | True |
GrainAmount | 0 |
GreenHue | 0 |
GreenSaturation | 0 |
HasCrop | False |
HasSettings | True |
Highlights2012 | -90 |
HueAdjustmentAqua | 0 |
HueAdjustmentBlue | 0 |
HueAdjustmentGreen | 0 |
HueAdjustmentMagenta | 0 |
HueAdjustmentOrange | 0 |
HueAdjustmentPurple | 0 |
HueAdjustmentRed | 0 |
HueAdjustmentYellow | 0 |
HyperfocalDistance | 1.60 m |
ICCProfileName | Display P3 |
ImageHeight | 5052 |
ImageSize | 7577x5052 |
ImageWidth | 7577 |
ISO | 125 |
LateralChromaticAberrationCorrectionAlreadyApplied | True |
Lens | XF16-80mmF4 R OIS WR |
LensInfo | 16-80mm f/4 |
LensMake | FUJIFILM |
LensManualDistortionAmount | 0 |
LensModel | XF16-80mmF4 R OIS WR |
LensProfileDistortionScale | 100 |
LensProfileEnable | 1 |
LensProfileIsEmbedded | True |
LensProfileName | Camera Settings |
LensProfileSetup | LensDefaults |
LensProfileVignettingScale | 100 |
LensSerialNumber | 2DA01808 |
LightSource | Unknown |
LightValue | 13.0 |
LookAmount | 1 |
LookCopyright | © 2018 Adobe Systems, Inc. |
LookGroup | Profiles |
LookName | Adobe Color |
LookParametersCameraProfile | Adobe Standard |
LookParametersConvertToGrayscale | False |
LookParametersLookTable | E1095149FDB39D7A057BAB208837E2E1 |
LookParametersProcessVersion | 15.4 |
LookParametersToneCurvePV2012 | 0, 0, 22, 16, 40, 35, 127, 127, 224, 230, 240, 246, 255, 255 |
LookParametersToneCurvePV2012Blue | 0, 0, 255, 255 |
LookParametersToneCurvePV2012Green | 0, 0, 255, 255 |
LookParametersToneCurvePV2012Red | 0, 0, 255, 255 |
LookParametersVersion | 15.5.1 |
LookSupportsAmount | false |
LookSupportsMonochrome | false |
LookSupportsOutputReferred | false |
LuminanceAdjustmentAqua | 0 |
LuminanceAdjustmentBlue | +32 |
LuminanceAdjustmentGreen | 0 |
LuminanceAdjustmentMagenta | 0 |
LuminanceAdjustmentOrange | -12 |
LuminanceAdjustmentPurple | 0 |
LuminanceAdjustmentRed | 0 |
LuminanceAdjustmentYellow | -10 |
LuminanceSmoothing | 0 |
Make | FUJIFILM |
MaxApertureValue | 4.0 |
Megapixels | 38.3 |
MeteringMode | Multi-segment |
Model | X-T5 |
ModifyDate (1) | 2023:12:03 22:04:42+01:00 |
ModifyDate | 2023:12:03 22:04:42 |
Orientation | Horizontal (normal) |
OverrideLookVignette | False |
ParametricDarks | +35 |
ParametricHighlights | 0 |
ParametricHighlightSplit | 75 |
ParametricLights | 0 |
ParametricMidtoneSplit | 50 |
ParametricShadows | -16 |
ParametricShadowSplit | 25 |
PerspectiveAspect | 0 |
PerspectiveHorizontal | 0 |
PerspectiveRotate | 0.0 |
PerspectiveScale | 100 |
PerspectiveUpright | 0 |
PerspectiveVertical | 0 |
PerspectiveX | 0.00 |
PerspectiveY | 0.00 |
PostCropVignetteAmount | 0 |
ProcessVersion | 15.4 |
ProfileDescription | Display P3 |
Rating | 0 |
RedHue | 0 |
RedSaturation | 0 |
Rights | KJELL-VIKESTAD |
Saturation | +3 |
SaturationAdjustmentAqua | 0 |
SaturationAdjustmentBlue | 0 |
SaturationAdjustmentGreen | 0 |
SaturationAdjustmentMagenta | 0 |
SaturationAdjustmentOrange | -10 |
SaturationAdjustmentPurple | 0 |
SaturationAdjustmentRed | 0 |
SaturationAdjustmentYellow | +15 |
ScaleFactor35efl | 1.5 |
SceneCaptureType | Standard |
SceneType | Directly photographed |
SensingMethod | One-chip color area |
SensitivityType | Standard Output Sensitivity |
SerialNumber | 2D017093 |
Shadows2012 | +100 |
ShadowTint | 0 |
SharpenDetail | 25 |
SharpenEdgeMasking | 0 |
SharpenRadius | +1.0 |
Sharpness (1) | 40 |
Sharpness | Normal |
ShutterSpeed | 1/160 |
ShutterSpeedValue | 1/160 |
Software | Adobe Photoshop 24.7 (Macintosh) |
SplitToningBalance | 0 |
SplitToningHighlightHue | 0 |
SplitToningHighlightSaturation | 0 |
SplitToningShadowHue | 0 |
SplitToningShadowSaturation | 0 |
SubjectDistanceRange | Unknown |
Texture | +20 |
Tint | +7 |
ToneCurveName2012 | Linear |
ToneCurvePV2012 | 0, 0, 255, 255 |
ToneCurvePV2012Blue | 0, 0, 255, 255 |
ToneCurvePV2012Green | 0, 0, 255, 255 |
ToneCurvePV2012Red | 0, 0, 255, 255 |
URL_List | |
Version | 15.5.1 |
Vibrance | +8 |
VignetteAmount | 0 |
VignetteCorrectionAlreadyApplied | True |
WhiteBalance (1) | Custom |
WhiteBalance | Auto |
Whites2012 | +20 |