Felt | Verdi |
AlreadyApplied | True |
Aperture | 2.8 |
ApertureValue | 2.8 |
AutoLateralCA | 0 |
BitsPerSample | 8 |
Blacks2012 | -31 |
BlueHue | 0 |
BlueSaturation | 0 |
CameraProfile | Adobe Standard |
CircleOfConfusion | 0.015 mm |
Clarity2012 | 0 |
ColorComponents | 3 |
ColorGradeBlending | 51 |
ColorGradeGlobalHue | 0 |
ColorGradeGlobalLum | 0 |
ColorGradeGlobalSat | 0 |
ColorGradeHighlightLum | 0 |
ColorGradeMidtoneHue | 245 |
ColorGradeMidtoneLum | 0 |
ColorGradeMidtoneSat | 8 |
ColorGradeShadowLum | 0 |
ColorNoiseReduction | 25 |
ColorNoiseReductionDetail | 50 |
ColorNoiseReductionSmoothness | 50 |
ColorSpace | sRGB |
ColorTemperature | 4950 |
ColorTransform | YCbCr |
Contrast | Normal |
Contrast2012 | -25 |
CreateDate (1) | 2024:06:15 16:19:42.656 |
CreateDate | 2024:06:15 16:19:42 |
CreatorTool | Adobe Photoshop Lightroom Classic 13.3.1 (Macintosh) |
CropAngle | 2.88 |
CropBottom | 1 |
CropConstrainToWarp | 0 |
CropLeft | 0.280451 |
CropRight | 0.838048 |
CropTop | 0.207864 |
CurveRefineSaturation | 100 |
CustomRendered | Custom |
DateCreated (1) | 2024:06:15 |
DateCreated | 2024:06:15 16:19:42.656 |
DateTimeOriginal | 2024:06:15 16:19:42 |
DefringeGreenAmount | 0 |
DefringeGreenHueHi | 60 |
DefringeGreenHueLo | 40 |
DefringePurpleAmount | 0 |
DefringePurpleHueHi | 70 |
DefringePurpleHueLo | 30 |
Dehaze | -6 |
DigitalZoomRatio | 0 |
DistortionCorrectionAlreadyApplied | True |
Exposure2012 | +1.00 |
ExposureCompensation | 0 |
ExposureMode | Auto |
ExposureProgram | Aperture-priority AE |
ExposureTime | 1/320 |
Flash | Off, Did not fire |
FNumber | 2.8 |
FocalLength | 20.0 mm |
FocalLength35efl | 20.0 mm (35 mm equivalent: 40.0 mm) |
FocalLengthIn35mmFormat | 40 mm |
Format | image/jpeg |
FOV | 48.5 deg |
GainControl | High gain up |
GrainAmount | 13 |
GrainFrequency | 43 |
GrainSize | 19 |
GreenHue | 0 |
GreenSaturation | 0 |
HasCrop | True |
HasSettings | True |
HDREditMode | 0 |
Highlights2012 | -77 |
HueAdjustmentAqua | 0 |
HueAdjustmentBlue | -16 |
HueAdjustmentGreen | +59 |
HueAdjustmentMagenta | 0 |
HueAdjustmentOrange | +8 |
HueAdjustmentPurple | 0 |
HueAdjustmentRed | +46 |
HueAdjustmentYellow | -15 |
HyperfocalDistance | 9.51 m |
ImageHeight | 2599 |
ImageSize | 2694x2599 |
ImageWidth | 2694 |
ISO | 800 |
LateralChromaticAberrationCorrectionAlreadyApplied | True |
Lens | LUMIX G 20/F1.7 |
LensManualDistortionAmount | 0 |
LensModel | LUMIX G 20/F1.7 |
LensProfileEnable | 0 |
LensSerialNumber | 01HG3033734 |
LightSource | Unknown |
LightValue | 8.3 |
LookAmount | 1 |
LookGroup | Profiles |
LookName | Adobe Color |
LookParametersCameraProfile | Adobe Standard |
LookParametersConvertToGrayscale | False |
LookParametersLookTable | E1095149FDB39D7A057BAB208837E2E1 |
LookParametersProcessVersion | 15.4 |
LookParametersToneCurvePV2012 | 0, 0, 22, 16, 40, 35, 127, 127, 224, 230, 240, 246, 255, 255 |
LookParametersToneCurvePV2012Blue | 0, 0, 255, 255 |
LookParametersToneCurvePV2012Green | 0, 0, 255, 255 |
LookParametersToneCurvePV2012Red | 0, 0, 255, 255 |
LookParametersVersion | 16.3.1 |
LookSupportsAmount | false |
LookSupportsMonochrome | false |
LookSupportsOutputReferred | false |
LuminanceAdjustmentAqua | +42 |
LuminanceAdjustmentBlue | +39 |
LuminanceAdjustmentGreen | -44 |
LuminanceAdjustmentMagenta | 0 |
LuminanceAdjustmentOrange | +7 |
LuminanceAdjustmentPurple | 0 |
LuminanceAdjustmentRed | 0 |
LuminanceAdjustmentYellow | 0 |
LuminanceSmoothing | 0 |
Make | Panasonic |
MaxApertureValue | 1.7 |
Megapixels | 7.0 |
MeteringMode | Center-weighted average |
Model | DMC-GX80 |
ModifyDate (1) | 2024:06:20 20:40:52+02:00 |
ModifyDate | 2024:06:20 20:40:52 |
OverrideLookVignette | False |
ParametricDarks | 0 |
ParametricHighlights | 0 |
ParametricHighlightSplit | 75 |
ParametricLights | 0 |
ParametricMidtoneSplit | 50 |
ParametricShadows | 0 |
ParametricShadowSplit | 25 |
PerspectiveAspect | 0 |
PerspectiveHorizontal | 0 |
PerspectiveRotate | 0.0 |
PerspectiveScale | 100 |
PerspectiveUpright | 0 |
PerspectiveVertical | 0 |
PerspectiveX | 0.00 |
PerspectiveY | 0.00 |
Pick | 0 |
PointColors | -1.000000, -1.000000, -1.000000, -1.000000, -1.000000, -1.000000, -1.000000, -1.000000, -1.000000, -1.000000, -1.000000, -1.000000, -1.000000, -1.000000, -1.000000, -1.000000, -1.000000, -1.000000, -1.000000 |
PostCropVignetteAmount | 0 |
PreservedFileName | P1030966.RW2 |
ProcessVersion | 15.4 |
ProfileDescription | sRGB IEC61966-2.1 |
RawFileName | P1030966.RW2 |
RedHue | 0 |
RedSaturation | 0 |
Saturation (1) | -5 |
Saturation | Normal |
SaturationAdjustmentAqua | -22 |
SaturationAdjustmentBlue | -25 |
SaturationAdjustmentGreen | -71 |
SaturationAdjustmentMagenta | -100 |
SaturationAdjustmentOrange | -5 |
SaturationAdjustmentPurple | -100 |
SaturationAdjustmentRed | -13 |
SaturationAdjustmentYellow | -45 |
ScaleFactor35efl | 2.0 |
SceneCaptureType | Standard |
SceneType | Directly photographed |
SensingMethod | One-chip color area |
SerialNumber | XGL1708030145 |
Shadows2012 | +57 |
ShadowTint | 0 |
SharpenDetail | 11 |
SharpenEdgeMasking | 0 |
SharpenRadius | +0.8 |
Sharpness (1) | 27 |
Sharpness | Normal |
ShutterSpeed | 1/320 |
ShutterSpeedValue | 1/320 |
Software | Adobe Photoshop Lightroom Classic 13.3.1 (Macintosh) |
SplitToningBalance | +46 |
SplitToningHighlightHue | 0 |
SplitToningHighlightSaturation | 0 |
SplitToningShadowHue | 146 |
SplitToningShadowSaturation | 22 |
Texture | -23 |
Tint | +12 |
ToneCurveName2012 | Custom |
ToneCurvePV2012 | 0, 18, 39, 28, 83, 57, 119, 103, 228, 205, 255, 240 |
ToneCurvePV2012Blue | 0, 0, 255, 255 |
ToneCurvePV2012Green | 0, 0, 255, 255 |
ToneCurvePV2012Red | 0, 0, 255, 255 |
Version | 16.3.1 |
Vibrance | 0 |
VignetteAmount | 0 |
WhiteBalance (1) | As Shot |
WhiteBalance | Auto |
Whites2012 | -66 |