Felt | Verdi |
AlreadyApplied | True |
Aperture | 22.0 |
ApertureValue | 22.0 |
BitsPerSample | 8 |
BlueHue | 0 |
BlueSaturation | 0 |
Brightness | +50 |
CameraProfile | ACR 4.4 |
ChromaticAberrationB | 0 |
ChromaticAberrationR | 0 |
CircleOfConfusion | 0.023 mm |
Clarity | 0 |
ColorComponents | 3 |
ColorMode | RGB |
ColorNoiseReduction | 25 |
ColorSpace (1) | Unknown (-1) |
ColorSpace | Uncalibrated |
ColorTemperature | 5900 |
Contrast | +43 |
ConvertToGrayscale | False |
CopyrightFlag | False |
CreateDate (1) | 2008:09:28 21:24:55+02:00 |
CreateDate | 2008:09:21 12:50:52 |
CreatorTool | Adobe Photoshop CS3 Windows |
CustomRendered | Normal |
DateTimeDigitized | 2008:09:21 12:50:52.00+02:00 |
DateTimeOriginal (1) | 2008:09:21 12:50:52.00+02:00 |
DateTimeOriginal | 2008:09:21 12:50:52 |
Defringe | 0 |
ExifImageHeight | 693 |
ExifImageWidth | 1040 |
Exposure | 0.00 |
ExposureCompensation | 0 |
ExposureMode | Auto |
ExposureProgram | Aperture-priority AE |
ExposureTime | 1/60 |
FillLight | 0 |
Firmware | 1.1.3 |
Flash | No Flash |
FlashCompensation | 0 |
FlashFired | False |
FlashFunction | False |
FlashMode | Unknown |
FlashRedEyeMode | False |
FlashReturn | No return detection |
FNumber | 22.0 |
FocalLength | 24.0 mm |
FocalLength35efl | 24.0 mm (35 mm equivalent: 30.8 mm) |
Format | image/jpeg |
FOV | 60.7 deg |
GreenHue | 0 |
GreenSaturation | 0 |
HasCrop | False |
HasSettings | True |
HighlightRecovery | 0 |
HueAdjustmentAqua | 0 |
HueAdjustmentBlue | 0 |
HueAdjustmentGreen | 0 |
HueAdjustmentMagenta | 0 |
HueAdjustmentOrange | 0 |
HueAdjustmentPurple | 0 |
HueAdjustmentRed | 0 |
HueAdjustmentYellow | 0 |
HyperfocalDistance | 1.12 m |
ICCProfileName | Adobe RGB (1998) |
ImageHeight (1) | 2592 |
ImageHeight | 693 |
ImageNumber | 0 |
ImageSize | 1040x693 |
ImageWidth (1) | 3888 |
ImageWidth | 1040 |
ISO | 200 |
Lens | EF24-105mm f/4L IS USM |
LensInfo | 24-105mm f/? |
LightValue | 13.8 |
LuminanceAdjustmentAqua | 0 |
LuminanceAdjustmentBlue | -52 |
LuminanceAdjustmentGreen | -35 |
LuminanceAdjustmentMagenta | 0 |
LuminanceAdjustmentOrange | -48 |
LuminanceAdjustmentPurple | 0 |
LuminanceAdjustmentRed | -35 |
LuminanceAdjustmentYellow | -12 |
LuminanceSmoothing | 0 |
Make | Canon |
MaxApertureValue | 4.0 |
Megapixels | 0.721 |
MeteringMode | Multi-segment |
Model | Canon EOS-1D Mark III |
ModifyDate (1) | 2008:09:28 21:24:55+02:00 |
ModifyDate | 2008:09:28 21:24:55 |
Orientation | Horizontal (normal) |
ParametricDarks | 0 |
ParametricHighlights | 0 |
ParametricHighlightSplit | 75 |
ParametricLights | 0 |
ParametricMidtoneSplit | 50 |
ParametricShadows | 0 |
ParametricShadowSplit | 25 |
PostCropVignetteAmount | 0 |
ProfileDescription | Adobe RGB (1998) |
RawFileName | 8M9B8495.CR2 |
RedHue | 0 |
RedSaturation | 0 |
Saturation | 0 |
SaturationAdjustmentAqua | 0 |
SaturationAdjustmentBlue | 0 |
SaturationAdjustmentGreen | 0 |
SaturationAdjustmentMagenta | 0 |
SaturationAdjustmentOrange | 0 |
SaturationAdjustmentPurple | 0 |
SaturationAdjustmentRed | 0 |
SaturationAdjustmentYellow | 0 |
ScaleFactor35efl | 1.3 |
SceneCaptureType | Standard |
SerialNumber | 563949 |
Shadows | 5 |
ShadowTint | 0 |
SharpenDetail | 25 |
SharpenEdgeMasking | 0 |
SharpenRadius | +1.0 |
Sharpness | 25 |
ShutterSpeed | 1/60 |
ShutterSpeedValue | 1/60 |
Software | Adobe Photoshop CS3 Windows |
SplitToningBalance | 0 |
SplitToningHighlightHue | 0 |
SplitToningHighlightSaturation | 0 |
SplitToningShadowHue | 0 |
SplitToningShadowSaturation | 0 |
Tint | +10 |
ToneCurve | 0, 0, 32, 22, 64, 56, 128, 128, 192, 196, 255, 255 |
ToneCurveName | Medium Contrast |
URL_List | |
Version | 4.5 |
Vibrance | 0 |
VignetteAmount | 0 |
WhiteBalance (2) | Custom |
WhiteBalance | Auto |