Felt | Verdi |
AlreadyApplied | True |
Aperture | 6.7 |
ApertureValue | 6.7 |
BitsPerSample | 8 |
BlueHue | 0 |
BlueSaturation | 0 |
Brightness | +35 |
By-line | Carl Gjersem |
CameraProfile | Camera Standard |
CFAPattern | [Blue,Green][Green,Red] |
ChromaticAberrationB | 0 |
ChromaticAberrationR | 0 |
CircleOfConfusion | 0.020 mm |
Clarity | +65 |
ColorComponents | 3 |
ColorNoiseReduction | 25 |
ColorTemperature | 5250 |
Contrast (2) | +34 |
Contrast | High |
ConvertToGrayscale | False |
Copyright | Carl Gjersem |
CopyrightFlag | True |
CopyrightNotice | Carl Gjersem |
CreateDate (1) | 2009:08:23 17:15:52+02:00 |
CreateDate | 2009:08:23 17:15:52 |
Creator | Carl Gjersem |
CreatorTool | Adobe Photoshop Lightroom |
CropAngle | 0 |
CropBottom | 0.895588 |
CropHeight | 600 |
CropLeft | 0 |
CropRight | 0.885294 |
CropTop | 0.010294 |
CropUnit | pixels |
CropWidth | 903 |
CustomRendered | Normal |
DateTimeDigitized | 2009:08:23 17:15:52+02:00 |
DateTimeOriginal (1) | 2009:08:23 17:15:52+02:00 |
DateTimeOriginal | 2009:08:23 17:15:52 |
Defringe | 0 |
ExifImageHeight | 600 |
ExifImageWidth | 903 |
Exposure | +2.40 |
ExposureCompensation | 0 |
ExposureMode | Auto |
ExposureProgram | Program AE |
ExposureTime | 1/500 |
FillLight | 31 |
Flash | Off, Did not fire |
FlashFired | False |
FlashFunction | False |
FlashMode | Off |
FlashRedEyeMode | False |
FlashReturn | No return detection |
FNumber | 6.7 |
FocalLength | 250.0 mm |
FocalLength35efl | 250.0 mm (35 mm equivalent: 375.0 mm) |
FocalLengthIn35mmFormat | 375 mm |
FOV | 5.5 deg |
GreenHue | 0 |
GreenSaturation | 0 |
HasCrop | True |
HasSettings | True |
HighlightRecovery | 0 |
HueAdjustmentAqua | 0 |
HueAdjustmentBlue | 0 |
HueAdjustmentGreen | 0 |
HueAdjustmentMagenta | 0 |
HueAdjustmentOrange | 0 |
HueAdjustmentPurple | 0 |
HueAdjustmentRed | 0 |
HueAdjustmentYellow | 0 |
HyperfocalDistance | 465.70 m |
ImageHeight | 600 |
ImageSize | 903x600 |
ImageWidth | 903 |
ISO | 100 |
Keywords | Rygge, Rygge Air Show, flyshow |
Label | Red |
LensID (1) | 8 227 |
LensID | smc PENTAX-DA* 60-250mm F4 [IF] SDM |
LightValue | 14.5 |
LuminanceAdjustmentAqua | 0 |
LuminanceAdjustmentBlue | 0 |
LuminanceAdjustmentGreen | 0 |
LuminanceAdjustmentMagenta | 0 |
LuminanceAdjustmentOrange | 0 |
LuminanceAdjustmentPurple | 0 |
LuminanceAdjustmentRed | 0 |
LuminanceAdjustmentYellow | 0 |
LuminanceSmoothing | 0 |
Make | PENTAX |
Marked | True |
Megapixels | 0.542 |
MeteringMode | Center-weighted average |
Model | PENTAX K20D |
ModifyDate (1) | 2009:09:10 17:48:59+02:00 |
ModifyDate | 2009:09:10 17:48:59 |
ParametricDarks | +2 |
ParametricHighlights | 0 |
ParametricHighlightSplit | 75 |
ParametricLights | -24 |
ParametricMidtoneSplit | 50 |
ParametricShadows | -17 |
ParametricShadowSplit | 25 |
PostCropVignetteAmount | 0 |
ProfileDescription | sRGB IEC61966-2.1 |
RedHue | 0 |
RedSaturation | 0 |
Rights | Carl Gjersem |
Saturation (2) | +45 |
Saturation | Normal |
SaturationAdjustmentAqua | 0 |
SaturationAdjustmentBlue | 0 |
SaturationAdjustmentGreen | 0 |
SaturationAdjustmentMagenta | 0 |
SaturationAdjustmentOrange | 0 |
SaturationAdjustmentPurple | 0 |
SaturationAdjustmentRed | 0 |
SaturationAdjustmentYellow | 0 |
ScaleFactor35efl | 1.5 |
SceneCaptureType | Standard |
SensingMethod | One-chip color area |
Shadows | 23 |
ShadowTint | 0 |
SharpenDetail | 25 |
SharpenEdgeMasking | 0 |
SharpenRadius | +1.0 |
Sharpness (2) | 25 |
Sharpness | Hard |
ShutterSpeed | 1/500 |
ShutterSpeedValue | 1/500 |
Software | K20D Ver 1.03 |
SplitToningBalance | 0 |
SplitToningHighlightHue | 0 |
SplitToningHighlightSaturation | 0 |
SplitToningShadowHue | 0 |
SplitToningShadowSaturation | 0 |
Subject | Rygge, Rygge Air Show, flyshow |
SubjectDistanceRange | Distant |
Tint | -13 |
ToneCurve | 0, 0, 32, 22, 64, 56, 128, 128, 192, 196, 255, 255 |
ToneCurveName | Medium Contrast |
URL | (c) Carl Gjersem 2009 |
Version | 5.4 |
Vibrance | +65 |
VignetteAmount | 0 |
WebStatement | (c) Carl Gjersem 2009 |
WhiteBalance (2) | As Shot |
WhiteBalance | Auto |