Felt | Verdi |
AlreadyApplied | True |
Aperture | 6.3 |
ApertureValue | 6.3 |
BitsPerSample (1) | 16, 16, 16 |
BitsPerSample (2) | 16 16 16 |
BitsPerSample | 8 |
BlueHue | 0 |
BlueSaturation | 0 |
Brightness | +50 |
CameraProfile | Adobe Standard |
ChromaticAberrationB | 0 |
ChromaticAberrationR | 0 |
CircleOfConfusion | 0.031 mm |
Clarity | +5 |
ColorComponents | 3 |
ColorMode | RGB |
ColorNoiseReduction | 20 |
ColorSpace | sRGB |
ColorTemperature | 4900 |
Contrast | +36 |
ConvertToGrayscale | False |
CreateDate (1) | 2009:07:15 16:16:26.39+02:00 |
CreateDate | 2009:07:15 16:16:26 |
CreatorTool | Adobe Photoshop Lightroom |
CropAngle | 0 |
CropBottom | 0.877034 |
CropHeight | 3284 |
CropLeft | 0 |
CropRight | 0.86747 |
CropTop | 0 |
CropUnit | pixels |
CropWidth | 4872 |
CustomRendered | Normal |
DateTimeDigitized | 2009:07:15 16:16:26.39+02:00 |
DateTimeOriginal (1) | 2009:07:15 16:16:26.39+02:00 |
DateTimeOriginal | 2009:07:15 16:16:26 |
Defringe | 0 |
ExifImageHeight | 800 |
ExifImageWidth | 556 |
Exposure | 0.00 |
ExposureCompensation | +1/3 |
ExposureMode | Auto |
ExposureProgram | Aperture-priority AE |
ExposureTime | 1/400 |
FillLight | 10 |
Firmware | 1.1.0 |
Flash | Off, Did not fire |
FlashCompensation | 0 |
FlashFired | False |
FlashFunction | False |
FlashMode | Off |
FlashRedEyeMode | False |
FlashReturn | No return detection |
FNumber | 6.3 |
FocalLength | 310.0 mm |
FocalLength35efl | 310.0 mm (35 mm equivalent: 302.5 mm) |
Format | image/jpeg |
FOV | 6.8 deg |
GreenHue | 0 |
GreenSaturation | 0 |
HasCrop | True |
HasSettings | True |
HighlightRecovery | 0 |
HueAdjustmentAqua | 0 |
HueAdjustmentBlue | 0 |
HueAdjustmentGreen | 0 |
HueAdjustmentMagenta | 0 |
HueAdjustmentOrange | 0 |
HueAdjustmentPurple | 0 |
HueAdjustmentRed | 0 |
HueAdjustmentYellow | 0 |
HyperfocalDistance | 495.47 m |
ICCProfileName | sRGB IEC61966-2.1 |
ImageHeight (1) | 4663 |
ImageHeight (2) | 4749 |
ImageHeight | 800 |
ImageNumber | 0 |
ImageSize | 556x800 |
ImageWidth (1) | 3238 |
ImageWidth (2) | 3284 |
ImageWidth | 556 |
ISO | 200 |
Lens | EF100-400mm f/4.5-5.6L IS USM |
LensInfo | 100-400mm f/? |
LightValue | 13.0 |
LuminanceAdjustmentAqua | 0 |
LuminanceAdjustmentBlue | 0 |
LuminanceAdjustmentGreen | -17 |
LuminanceAdjustmentMagenta | +2 |
LuminanceAdjustmentOrange | 0 |
LuminanceAdjustmentPurple | 0 |
LuminanceAdjustmentRed | +5 |
LuminanceAdjustmentYellow | 0 |
LuminanceSmoothing | 15 |
Make | Canon |
MaxApertureValue | 5.7 |
Megapixels | 0.445 |
MeteringMode | Multi-segment |
Model | Canon EOS 5D Mark II |
ModifyDate (1) | 2009:11:24 20:51:52+01:00 |
ModifyDate | 2009:11:24 20:51:52 |
Orientation | Horizontal (normal) |
ParametricDarks | 0 |
ParametricHighlights | +14 |
ParametricHighlightSplit | 75 |
ParametricLights | +14 |
ParametricMidtoneSplit | 50 |
ParametricShadows | -2 |
ParametricShadowSplit | 25 |
PhotometricInterpretation | RGB |
PlanarConfiguration | Chunky |
PostCropVignetteAmount | 0 |
ProfileDescription | sRGB IEC61966-2.1 |
RedHue | 0 |
RedSaturation | 0 |
SamplesPerPixel | 3 |
Saturation | 0 |
SaturationAdjustmentAqua | -14 |
SaturationAdjustmentBlue | -12 |
SaturationAdjustmentGreen | -19 |
SaturationAdjustmentMagenta | -14 |
SaturationAdjustmentOrange | -7 |
SaturationAdjustmentPurple | -17 |
SaturationAdjustmentRed | -7 |
SaturationAdjustmentYellow | -14 |
ScaleFactor35efl | 1.0 |
SceneCaptureType | Standard |
SerialNumber | 530320270 |
Shadows | 2 |
ShadowTint | 0 |
SharpenDetail | 25 |
SharpenEdgeMasking | 0 |
SharpenRadius | +1.0 |
Sharpness | 45 |
ShutterSpeed | 1/400 |
ShutterSpeedValue | 1/400 |
Software | Adobe Photoshop CS4 Windows |
SplitToningBalance | 0 |
SplitToningHighlightHue | 0 |
SplitToningHighlightSaturation | 0 |
SplitToningShadowHue | 0 |
SplitToningShadowSaturation | 0 |
Tint | +4 |
ToneCurve | 0, 0, 32, 22, 64, 56, 128, 128, 192, 196, 255, 255 |
ToneCurveName | Medium Contrast |
URL_List | |
Version | 5.5 |
Vibrance | 0 |
VignetteAmount | 0 |
WhiteBalance (2) | Custom |
WhiteBalance | Auto |