Felt | Verdi |
AlreadyApplied | True |
Aperture | 2.8 |
ApertureValue | 2.8 |
BitsPerSample (1) | 16, 16, 16 |
BitsPerSample (2) | 16 16 16 |
BitsPerSample | 8 |
BlueHue | 0 |
BlueSaturation | 0 |
Brightness | +50 |
CameraProfile | Adobe Standard |
ChromaticAberrationB | 0 |
ChromaticAberrationR | 0 |
CircleOfConfusion | 0.019 mm |
Clarity | +14 |
ColorComponents | 3 |
ColorMode | RGB |
ColorNoiseReduction | 25 |
ColorSpace | sRGB |
ColorTemperature | 4350 |
Contrast | +37 |
ConvertToGrayscale | False |
CreateDate (1) | 2010:05:16 15:25:33.72+02:00 |
CreateDate | 2010:05:16 15:25:33 |
CreatorTool | Adobe Photoshop Lightroom |
CropAngle | 0 |
CropBottom | 1 |
CropHeight | 3287 |
CropLeft | 0.045752 |
CropRight | 0.738562 |
CropTop | 0.049019 |
CropUnit | pixels |
CropWidth | 3592 |
CustomRendered | Normal |
DateTimeDigitized | 2010:05:16 15:25:33.72+02:00 |
DateTimeOriginal (1) | 2010:05:16 15:25:33.72+02:00 |
DateTimeOriginal | 2010:05:16 15:25:33 |
Defringe | 0 |
DOF | 0.07 m (5.03 - 5.09 m) |
ExifImageHeight | 784 |
ExifImageWidth | 1024 |
Exposure | 0.00 |
ExposureCompensation | 0 |
ExposureMode | Auto |
ExposureProgram | Aperture-priority AE |
ExposureTime | 1/500 |
FillLight | 17 |
Firmware | 1.1.0 |
Flash | Off, Did not fire |
FlashCompensation | 0 |
FlashFired | False |
FlashFunction | False |
FlashMode | Off |
FlashRedEyeMode | False |
FlashReturn | No return detection |
FNumber | 2.8 |
FocalLength | 200.0 mm |
FocalLength35efl | 200.0 mm (35 mm equivalent: 314.1 mm) |
Format | image/jpeg |
FOV | 6.6 deg |
GreenHue | 0 |
GreenSaturation | 0 |
HasCrop | True |
HasSettings | True |
HighlightRecovery | 0 |
HueAdjustmentAqua | 0 |
HueAdjustmentBlue | 0 |
HueAdjustmentGreen | 0 |
HueAdjustmentMagenta | 0 |
HueAdjustmentOrange | 0 |
HueAdjustmentPurple | 0 |
HueAdjustmentRed | 0 |
HueAdjustmentYellow | 0 |
HyperfocalDistance | 746.63 m |
ICCProfileName | sRGB IEC61966-2.1 |
ImageHeight (1) | 2749 |
ImageHeight | 784 |
ImageNumber | 0 |
ImageSize | 1024x784 |
ImageWidth (1) | 3592 |
ImageWidth | 1024 |
ISO | 400 |
Lens | EF70-200mm f/2.8L IS II USM |
LensID (1) | 251 |
LensID | Canon EF 70-200mm f/2.8L IS II USM or Canon EF 70-200mm f/2.8L IS III USM |
LensInfo | 70-200mm f/? |
LightValue | 9.9 |
LuminanceAdjustmentAqua | 0 |
LuminanceAdjustmentBlue | 0 |
LuminanceAdjustmentGreen | -2 |
LuminanceAdjustmentMagenta | 0 |
LuminanceAdjustmentOrange | 0 |
LuminanceAdjustmentPurple | 0 |
LuminanceAdjustmentRed | 0 |
LuminanceAdjustmentYellow | 0 |
LuminanceSmoothing | 15 |
Make | Canon |
MaxApertureValue | 2.8 |
Megapixels | 0.803 |
MeteringMode | Multi-segment |
Model | Canon EOS 7D |
ModifyDate (1) | 2010:05:22 23:29:47+02:00 |
ModifyDate | 2010:05:22 23:29:47 |
Orientation | Horizontal (normal) |
ParametricDarks | 0 |
ParametricHighlights | -10 |
ParametricHighlightSplit | 75 |
ParametricLights | -24 |
ParametricMidtoneSplit | 50 |
ParametricShadows | 0 |
ParametricShadowSplit | 25 |
PhotometricInterpretation | RGB |
PlanarConfiguration | Chunky |
PostCropVignetteAmount | 0 |
ProfileDescription | sRGB IEC61966-2.1 |
RedHue | 0 |
RedSaturation | 0 |
SamplesPerPixel | 3 |
Saturation | +2 |
SaturationAdjustmentAqua | 0 |
SaturationAdjustmentBlue | 0 |
SaturationAdjustmentGreen | 0 |
SaturationAdjustmentMagenta | 0 |
SaturationAdjustmentOrange | 0 |
SaturationAdjustmentPurple | 0 |
SaturationAdjustmentRed | 0 |
SaturationAdjustmentYellow | 0 |
ScaleFactor35efl | 1.6 |
SceneCaptureType | Standard |
SerialNumber | 380434165 |
Shadows | 2 |
ShadowTint | 0 |
SharpenDetail | 25 |
SharpenEdgeMasking | 0 |
SharpenRadius | +1.0 |
Sharpness | 55 |
ShutterSpeed | 1/500 |
ShutterSpeedValue | 1/500 |
Software | Adobe Photoshop CS4 Windows |
SplitToningBalance | 0 |
SplitToningHighlightHue | 0 |
SplitToningHighlightSaturation | 0 |
SplitToningShadowHue | 0 |
SplitToningShadowSaturation | 0 |
SubjectDistance | 5.06 m |
Tint | +43 |
ToneCurve | 0, 0, 32, 22, 64, 56, 128, 128, 192, 196, 255, 255 |
ToneCurveName | Medium Contrast |
URL_List | |
Version | 5.7 |
Vibrance | +10 |
VignetteAmount | 0 |
WhiteBalance (2) | As Shot |
WhiteBalance | Auto |