Felt | Verdi |
AlreadyApplied | True |
Aperture | 7.1 |
ApertureValue | 7.1 |
BitsPerSample | 8 |
BlueHue | 0 |
BlueSaturation | 0 |
Brightness | +68 |
CameraProfile | Adobe Standard |
CFAPattern | [Green,Blue][Red,Green] |
ChromaticAberrationB | 0 |
ChromaticAberrationR | 0 |
CircleOfConfusion | 0.020 mm |
Clarity | +95 |
ColorComponents | 3 |
ColorNoiseReduction | 98 |
ColorTemperature | 4550 |
Contrast (2) | +79 |
Contrast | Normal |
ConvertToGrayscale | False |
CreateDate (1) | 2010:07:14 08:44:19.00+02:00 |
CreateDate | 2010:07:14 08:44:19 |
CreatorTool | Adobe Photoshop Lightroom |
CustomRendered | Normal |
DateTimeDigitized | 2010:07:14 08:44:19.00+02:00 |
DateTimeOriginal (1) | 2010:07:14 08:44:19.00+02:00 |
DateTimeOriginal | 2010:07:14 08:44:19 |
Defringe | 0 |
DigitalZoomRatio | 1 |
ExifImageHeight | 2848 |
ExifImageWidth | 4288 |
Exposure | +0.10 |
ExposureCompensation | +1/3 |
ExposureMode | Manual |
ExposureProgram | Manual |
ExposureTime | 1/800 |
FillLight | 6 |
Flash | No Flash |
FlashFired | False |
FlashFunction | False |
FlashMode | Unknown |
FlashRedEyeMode | False |
FlashReturn | No return detection |
FNumber | 7.1 |
FocalLength | 300.0 mm |
FocalLength35efl | 300.0 mm (35 mm equivalent: 450.0 mm) |
FocalLengthIn35mmFormat | 450 mm |
FOV | 4.6 deg |
GainControl | Low gain up |
GreenHue | 0 |
GreenSaturation | 0 |
HasCrop | False |
HasSettings | True |
HighlightRecovery | 20 |
HueAdjustmentAqua | 0 |
HueAdjustmentBlue | 0 |
HueAdjustmentGreen | 0 |
HueAdjustmentMagenta | 0 |
HueAdjustmentOrange | 0 |
HueAdjustmentPurple | 0 |
HueAdjustmentRed | 0 |
HueAdjustmentYellow | 0 |
HyperfocalDistance | 632.83 m |
ImageHeight | 2848 |
ImageNumber | 10741 |
ImageSize | 4288x2848 |
ImageWidth | 4288 |
ISO | 400 |
Lens | 100.0-300.0 mm f/5.0-6.3 |
LensInfo | 100-300mm f/5-6.3 |
LightSource | Unknown |
LightValue | 13.3 |
LuminanceAdjustmentAqua | 0 |
LuminanceAdjustmentBlue | 0 |
LuminanceAdjustmentGreen | 0 |
LuminanceAdjustmentMagenta | 0 |
LuminanceAdjustmentOrange | 0 |
LuminanceAdjustmentPurple | 0 |
LuminanceAdjustmentRed | 0 |
LuminanceAdjustmentYellow | 0 |
LuminanceSmoothing | 98 |
Make | NIKON CORPORATION |
MaxApertureValue | 6.3 |
Megapixels | 12.2 |
MeteringMode | Multi-segment |
Model | NIKON D90 |
ModifyDate (1) | 2010:08:13 23:55:41+02:00 |
ModifyDate | 2010:08:13 23:55:41 |
PaintCorrectionActive | true |
PaintCorrectionAmount | 1.000000 |
PaintCorrectionBrightness | 0.000000 |
PaintCorrectionClarity (1) | 0.000000 |
PaintCorrectionClarity | 1.000000 |
PaintCorrectionContrast (2) | 0.900000 |
PaintCorrectionContrast (3) | -0.125000 |
PaintCorrectionContrast | 0.000000 |
PaintCorrectionExposure (1) | -0.225000 |
PaintCorrectionExposure | 0.000000 |
PaintCorrectionHue | 3.000000 |
PaintCorrectionMaskCenterWeight | 0.118082 |
PaintCorrectionMaskFlow (21) | 0.814000 |
PaintCorrectionMaskFlow | 0.678000 |
PaintCorrectionMaskRadius (21) | 0.060792 |
PaintCorrectionMaskRadius | 0.039122 |
PaintCorrectionMaskValue | 0.975000 |
PaintCorrectionMaskWhat | Mask/Paint |
PaintCorrectionSaturation | 0.000000 |
PaintCorrectionSharpness (1) | 0.800000 |
PaintCorrectionSharpness (2) | 0.000000 |
PaintCorrectionSharpness (3) | 1.000000 |
PaintCorrectionSharpness | 0.775000 |
PaintCorrectionWhat | Correction |
ParametricDarks | -5 |
ParametricHighlights | -100 |
ParametricHighlightSplit | 75 |
ParametricLights | -17 |
ParametricMidtoneSplit | 50 |
ParametricShadows | -31 |
ParametricShadowSplit | 25 |
PostCropVignetteAmount | 0 |
ProfileDescription | sRGB IEC61966-2.1 |
RedHue | 0 |
RedSaturation | 0 |
Saturation (2) | 0 |
Saturation | Normal |
SaturationAdjustmentAqua | 0 |
SaturationAdjustmentBlue | 0 |
SaturationAdjustmentGreen | 0 |
SaturationAdjustmentMagenta | 0 |
SaturationAdjustmentOrange | 0 |
SaturationAdjustmentPurple | 0 |
SaturationAdjustmentRed | 0 |
SaturationAdjustmentYellow | 0 |
ScaleFactor35efl | 1.5 |
SceneCaptureType | Standard |
SceneType | Directly photographed |
SensingMethod | One-chip color area |
SerialNumber | 6138714 |
Shadows | 4 |
ShadowTint | 0 |
SharpenDetail | 93 |
SharpenEdgeMasking | 79 |
SharpenRadius | +1.4 |
Sharpness (2) | 123 |
Sharpness | Normal |
ShutterSpeed | 1/800 |
ShutterSpeedValue | 1/800 |
Software | Ver.1.00 |
SplitToningBalance | 0 |
SplitToningHighlightHue | 304 |
SplitToningHighlightSaturation | 7 |
SplitToningShadowHue | 60 |
SplitToningShadowSaturation | 20 |
SubjectDistanceRange | Unknown |
Tint | 0 |
ToneCurve | 0, 0, 32, 16, 64, 50, 128, 128, 192, 202, 255, 255 |
ToneCurveName | Strong Contrast |
Version | 5.5 |
Vibrance | +24 |
VignetteAmount | 0 |
WhiteBalance (2) | As Shot |
WhiteBalance | Auto |