Felt | Verdi |
AlreadyApplied | True |
Aperture | 25.0 |
ApertureValue | 25.0 |
ApproximateFocusDistance | 1.12 |
BitsPerSample | 8 |
BlueHue | -69 |
BlueSaturation | 0 |
Brightness | +61 |
CameraProfile | Embedded |
CFAPattern | [Green,Blue][Red,Green] |
ChromaticAberrationB | 0 |
ChromaticAberrationR | 0 |
CircleOfConfusion | 0.020 mm |
Clarity | 0 |
ColorComponents | 1 |
ColorNoiseReduction | 25 |
ColorNoiseReductionDetail | 50 |
Contrast (2) | +25 |
Contrast | Low |
ConvertToGrayscale | False |
CreateDate (1) | 2010:08:30 19:05:09.70+02:00 |
CreateDate | 2010:08:30 19:05:09 |
CreatorTool | Adobe Photoshop Lightroom |
CropAngle | 0 |
CropBottom | 0.934091 |
CropConstrainToWarp | 0 |
CropHeight | 1508 |
CropLeft | 0.125377 |
CropRight | 0.707195 |
CropTop | 0.352273 |
CropUnit | pixels |
CropWidth | 2253 |
CustomRendered | Normal |
DateTimeDigitized | 2010:08:30 19:05:09.70+02:00 |
DateTimeOriginal (1) | 2010:08:30 19:05:09.70+02:00 |
DateTimeOriginal | 2010:08:30 19:05:09 |
Defringe | 0 |
DigitalZoomRatio | 1 |
DOF | 0.16 m (1.05 - 1.20 m) |
ExifImageHeight | 1508 |
ExifImageWidth | 2253 |
Exposure | +0.32 |
ExposureCompensation | +2/3 |
ExposureMode | Manual |
ExposureProgram | Manual |
ExposureTime | 1/200 |
FillLight | 14 |
Flash | Auto, Fired, Return detected |
FlashFired | True |
FlashFunction | False |
FlashMode | Auto |
FlashRedEyeMode | False |
FlashReturn | Return detected |
FNumber | 25.0 |
FocalLength | 86.0 mm |
FocalLength35efl | 86.0 mm (35 mm equivalent: 129.0 mm) |
FocalLengthIn35mmFormat | 129 mm |
FOV | 15.9 deg |
GainControl | None |
GradientBasedCorrActive | true |
GradientBasedCorrAmount | 1.000000 |
GradientBasedCorrBrightness | 0.000000 |
GradientBasedCorrClarity | -0.500000 |
GradientBasedCorrContrast | 0.000000 |
GradientBasedCorrExposure | -0.187500 |
GradientBasedCorrHue | 0.000000 |
GradientBasedCorrMaskFullX (1) | 0.501274 |
GradientBasedCorrMaskFullX (2) | 0.501423 |
GradientBasedCorrMaskFullX (3) | 0.746409 |
GradientBasedCorrMaskFullX (4) | 0.244260 |
GradientBasedCorrMaskFullX (5) | 0.718990 |
GradientBasedCorrMaskFullX (6) | 0.282165 |
GradientBasedCorrMaskFullX (7) | 0.719381 |
GradientBasedCorrMaskFullX | 0.282734 |
GradientBasedCorrMaskFullY (1) | 0.250152 |
GradientBasedCorrMaskFullY (2) | 0.754118 |
GradientBasedCorrMaskFullY (3) | 0.500398 |
GradientBasedCorrMaskFullY (4) | 0.500029 |
GradientBasedCorrMaskFullY (5) | 0.220618 |
GradientBasedCorrMaskFullY (6) | 0.218119 |
GradientBasedCorrMaskFullY (7) | 0.785114 |
GradientBasedCorrMaskFullY | 0.781477 |
GradientBasedCorrMaskValue | 1.000000 |
GradientBasedCorrMaskWhat | Mask/Gradient |
GradientBasedCorrMaskZeroX (1) | 0.501274 |
GradientBasedCorrMaskZeroX (2) | 0.501423 |
GradientBasedCorrMaskZeroX (3) | 0.586753 |
GradientBasedCorrMaskZeroX (4) | 0.421686 |
GradientBasedCorrMaskZeroX (5) | 0.615150 |
GradientBasedCorrMaskZeroX (6) | 0.383661 |
GradientBasedCorrMaskZeroX (7) | 0.614461 |
GradientBasedCorrMaskZeroX | 0.383889 |
GradientBasedCorrMaskZeroY (1) | 0.416134 |
GradientBasedCorrMaskZeroY (2) | 0.578007 |
GradientBasedCorrMaskZeroY (3) | 0.500398 |
GradientBasedCorrMaskZeroY (4) | 0.500029 |
GradientBasedCorrMaskZeroY (5) | 0.447704 |
GradientBasedCorrMaskZeroY (6) | 0.449229 |
GradientBasedCorrMaskZeroY (7) | 0.550188 |
GradientBasedCorrMaskZeroY | 0.549305 |
GradientBasedCorrSaturation | 0.000000 |
GradientBasedCorrSharpness | 0.000000 |
GradientBasedCorrWhat | Correction |
GrainAmount | 0 |
GreenHue | +12 |
GreenSaturation | 0 |
HasCrop | True |
HasSettings | True |
HighlightRecovery | 0 |
HueAdjustmentAqua | 0 |
HueAdjustmentBlue | 0 |
HueAdjustmentGreen | 0 |
HueAdjustmentMagenta | 0 |
HueAdjustmentOrange | +29 |
HueAdjustmentPurple | 0 |
HueAdjustmentRed | +81 |
HueAdjustmentYellow | +5 |
HyperfocalDistance | 14.77 m |
ImageHeight | 1508 |
ImageNumber | 3223 |
ImageSize | 2253x1508 |
ImageWidth | 2253 |
IncrementalTemperature | -13 |
IncrementalTint | -19 |
ISO | 100 |
Lens | 55.0-200.0 mm f/4.0-5.6 |
LensID (1) | 144 |
LensID | AF-S DX VR Zoom-Nikkor 55-200mm f/4-5.6G IF-ED |
LensInfo | 55-200mm f/4-5.6 |
LensManualDistortionAmount | 0 |
LensModel | 55.0-200.0 mm f/4.0-5.6 |
LensProfileEnable | 0 |
LensProfileSetup | LensDefaults |
LightSource | Flash |
LightValue | 16.9 |
LuminanceAdjustmentAqua | -100 |
LuminanceAdjustmentBlue | 0 |
LuminanceAdjustmentGreen | +100 |
LuminanceAdjustmentMagenta | 0 |
LuminanceAdjustmentOrange | +100 |
LuminanceAdjustmentPurple | 0 |
LuminanceAdjustmentRed | +100 |
LuminanceAdjustmentYellow | +95 |
LuminanceSmoothing | 0 |
Make | NIKON CORPORATION |
MaxApertureValue | 4.3 |
Megapixels | 3.4 |
MeteringMode | Center-weighted average |
Model | NIKON D60 |
ModifyDate (1) | 2010:09:02 21:52:50+02:00 |
ModifyDate | 2010:09:02 21:52:50 |
ParametricDarks | -1 |
ParametricHighlights | +14 |
ParametricHighlightSplit | 75 |
ParametricLights | +38 |
ParametricMidtoneSplit | 50 |
ParametricShadows | -52 |
ParametricShadowSplit | 14 |
PerspectiveHorizontal | 0 |
PerspectiveRotate | 0.0 |
PerspectiveScale | 100 |
PerspectiveVertical | 0 |
PostCropVignetteAmount | -17 |
PostCropVignetteFeather | 50 |
PostCropVignetteHighlightContrast | 0 |
PostCropVignetteMidpoint | 50 |
PostCropVignetteRoundness | 0 |
PostCropVignetteStyle | 1 |
ProcessVersion | 5.7 |
ProfileDescription | sRGB IEC61966-2.1 |
RedHue | +17 |
RedSaturation | 0 |
Saturation (2) | -100 |
Saturation | Normal |
SaturationAdjustmentAqua | -76 |
SaturationAdjustmentBlue | -31 |
SaturationAdjustmentGreen | +45 |
SaturationAdjustmentMagenta | -100 |
SaturationAdjustmentOrange | +26 |
SaturationAdjustmentPurple | -100 |
SaturationAdjustmentRed | -100 |
SaturationAdjustmentYellow | +36 |
ScaleFactor35efl | 1.5 |
SceneCaptureType | Standard |
SceneType | Directly photographed |
SensingMethod | One-chip color area |
SensitivityType | Unknown |
SerialNumber | 6464350 |
Shadows | 8 |
ShadowTint | -100 |
SharpenDetail | 53 |
SharpenEdgeMasking | 0 |
SharpenRadius | +0.5 |
Sharpness (2) | 20 |
Sharpness | Normal |
ShutterSpeed | 1/200 |
ShutterSpeedValue | 1/200 |
Software | Ver.1.01 |
SplitToningBalance | 0 |
SplitToningHighlightHue | 0 |
SplitToningHighlightSaturation | 0 |
SplitToningShadowHue | 0 |
SplitToningShadowSaturation | 0 |
SubjectDistance | 1.12 m |
SubjectDistanceRange | Unknown |
ToneCurve | 0, 0, 32, 16, 64, 50, 128, 128, 192, 202, 255, 255 |
ToneCurveName | Strong Contrast |
Version | 6.2 |
Vibrance | -100 |
VignetteAmount | 0 |
WhiteBalance (2) | Custom |
WhiteBalance | Manual |