Felt | Verdi |
AlreadyApplied | True |
Aperture | 11.0 |
ApertureValue | 11.0 |
ApproximateFocusDistance | 4294967295 |
BitsPerSample | 8 |
BlueHue | 0 |
BlueSaturation | 0 |
Brightness | +105 |
CameraProfile | ACR 4.4 |
CFAPattern | [Green,Blue][Red,Green] |
ChromaticAberrationB | 0 |
ChromaticAberrationR | 0 |
CircleOfConfusion | 0.020 mm |
Clarity | +8 |
ColorComponents | 3 |
ColorNoiseReduction | 25 |
ColorNoiseReductionDetail | 50 |
ColorTemperature | 5333 |
Contrast (2) | +100 |
Contrast | Normal |
ConvertToGrayscale | True |
CreateDate (1) | 2010:09:07 19:21:53.40+02:00 |
CreateDate | 2010:09:07 19:21:53 |
CreatorTool | Adobe Photoshop Lightroom |
CropAngle | -0.766562 |
CropBottom | 0.870025 |
CropConstrainToWarp | 0 |
CropHeight | 2055 |
CropLeft | 0.049756 |
CropRight | 0.849786 |
CropTop | 0.092946 |
CropUnit | pixels |
CropWidth | 3070 |
CustomRendered | Normal |
DateTimeDigitized | 2010:09:07 19:21:53.40+02:00 |
DateTimeOriginal (1) | 2010:09:07 19:21:53.40+02:00 |
DateTimeOriginal | 2010:09:07 19:21:53 |
Defringe | 0 |
DigitalZoomRatio | 1 |
DOF | inf (45.38 m - inf) |
ExifImageHeight | 2055 |
ExifImageWidth | 3070 |
Exposure | -1.70 |
ExposureCompensation | 0 |
ExposureMode | Manual |
ExposureProgram | Manual |
ExposureTime | 25 |
FillLight | 0 |
Flash | No Flash |
FlashFired | False |
FlashFunction | False |
FlashMode | Unknown |
FlashRedEyeMode | False |
FlashReturn | No return detection |
FNumber | 11.0 |
FocalLength | 100.0 mm |
FocalLength35efl | 100.0 mm (35 mm equivalent: 150.0 mm) |
FocalLengthIn35mmFormat | 150 mm |
FOV | 13.7 deg |
GainControl | None |
GradientBasedCorrActive | true |
GradientBasedCorrAmount | 1.000000 |
GradientBasedCorrBrightness | 0.000000 |
GradientBasedCorrClarity | 0.000000 |
GradientBasedCorrContrast | 0.000000 |
GradientBasedCorrExposure | -0.126437 |
GradientBasedCorrHue | 48.000000 |
GradientBasedCorrMaskFullX (1) | 0.546016 |
GradientBasedCorrMaskFullX (2) | 0.550598 |
GradientBasedCorrMaskFullX (3) | 0.007159 |
GradientBasedCorrMaskFullX | -0.007104 |
GradientBasedCorrMaskFullY (1) | 1.050410 |
GradientBasedCorrMaskFullY (2) | 0.310946 |
GradientBasedCorrMaskFullY (3) | 0.320945 |
GradientBasedCorrMaskFullY | 1.055880 |
GradientBasedCorrMaskValue | 1.000000 |
GradientBasedCorrMaskWhat | Mask/Gradient |
GradientBasedCorrMaskZeroX (1) | 0.358476 |
GradientBasedCorrMaskZeroX (2) | 0.340952 |
GradientBasedCorrMaskZeroX (3) | 0.232257 |
GradientBasedCorrMaskZeroX | 0.248747 |
GradientBasedCorrMaskZeroY (1) | 0.684783 |
GradientBasedCorrMaskZeroY (2) | 0.659995 |
GradientBasedCorrMaskZeroY (3) | 0.710289 |
GradientBasedCorrMaskZeroY | 0.671380 |
GradientBasedCorrSaturation | 0.000000 |
GradientBasedCorrSharpness | 0.000000 |
GradientBasedCorrWhat | Correction |
GrainAmount | 0 |
GrayMixerAqua | +83 |
GrayMixerBlue | +46 |
GrayMixerGreen | +37 |
GrayMixerMagenta | +63 |
GrayMixerOrange | 0 |
GrayMixerPurple | 0 |
GrayMixerRed | +17 |
GrayMixerYellow | +54 |
GreenHue | 0 |
GreenSaturation | 0 |
HasCrop | True |
HasSettings | True |
HighlightRecovery | 0 |
HyperfocalDistance | 45.38 m |
ImageHeight | 2055 |
ImageNumber | 3274 |
ImageSize | 3070x2055 |
ImageWidth | 3070 |
ISO | 100 |
Lens | 55.0-200.0 mm f/4.0-5.6 |
LensID (1) | 144 |
LensID | AF-S DX VR Zoom-Nikkor 55-200mm f/4-5.6G IF-ED |
LensInfo | 55-200mm f/4-5.6 |
LensManualDistortionAmount | 0 |
LensModel | 55.0-200.0 mm f/4.0-5.6 |
LensProfileEnable | 0 |
LensProfileSetup | LensDefaults |
LightSource | Unknown |
LightValue | 2.3 |
LuminanceNoiseReductionContrast | 0 |
LuminanceNoiseReductionDetail | 50 |
LuminanceSmoothing | 100 |
Make | NIKON CORPORATION |
MaxApertureValue | 4.4 |
Megapixels | 6.3 |
MeteringMode | Center-weighted average |
Model | NIKON D60 |
ModifyDate (1) | 2010:09:08 21:16:37+02:00 |
ModifyDate | 2010:09:08 21:16:37 |
ParametricDarks | -9 |
ParametricHighlights | +30 |
ParametricHighlightSplit | 75 |
ParametricLights | -15 |
ParametricMidtoneSplit | 39 |
ParametricShadows | +26 |
ParametricShadowSplit | 10 |
PerspectiveHorizontal | 0 |
PerspectiveRotate | 0.0 |
PerspectiveScale | 100 |
PerspectiveVertical | 0 |
PostCropVignetteAmount | 0 |
ProcessVersion | 5.7 |
ProfileDescription | sRGB IEC61966-2.1 |
RedHue | 0 |
RedSaturation | 0 |
Saturation | High |
ScaleFactor35efl | 1.5 |
SceneCaptureType | Standard |
SceneType | Directly photographed |
SensingMethod | One-chip color area |
SensitivityType | Unknown |
SerialNumber | 6464350 |
Shadows | 57 |
ShadowTint | 0 |
SharpenDetail | 25 |
SharpenEdgeMasking | 0 |
SharpenRadius | +1.0 |
Sharpness (2) | 100 |
Sharpness | Hard |
ShutterSpeed | 25 |
ShutterSpeedValue | 25 |
Software | Ver.1.01 |
SplitToningBalance | +85 |
SplitToningHighlightHue | 0 |
SplitToningHighlightSaturation | 0 |
SplitToningShadowHue | 234 |
SplitToningShadowSaturation | 73 |
SubjectDistance | 4294967295 m |
SubjectDistanceRange | Unknown |
Tint | -109 |
ToneCurve | 0, 0, 255, 255 |
ToneCurveName | Linear |
Version | 6.2 |
VignetteAmount | -100 |
VignetteMidpoint | 0 |
WhiteBalance (2) | Custom |
WhiteBalance | Auto |