Felt | Verdi |
AlreadyApplied | True |
Aperture | 7.1 |
ApertureValue | 7.1 |
ApproximateFocusDistance | 12.6 |
BitsPerSample | 8 |
BlueHue | 0 |
BlueSaturation | 0 |
Brightness | +40 |
CameraProfile | ACR 4.4 |
CFAPattern | [Green,Blue][Red,Green] |
ChromaticAberrationB | 0 |
ChromaticAberrationR | 0 |
CircleOfConfusion | 0.020 mm |
Clarity | +17 |
ColorComponents | 1 |
ColorNoiseReduction | 25 |
ColorNoiseReductionDetail | 50 |
ColorTemperature | 5550 |
Contrast (2) | +71 |
Contrast | Normal |
ConvertToGrayscale | True |
CreateDate (1) | 2010:09:15 13:54:33.60-07:00 |
CreateDate | 2010:09:15 13:54:33 |
CreatorTool | Adobe Photoshop Lightroom |
CropAngle | 0 |
CropBottom | 0.890578 |
CropConstrainToWarp | 0 |
CropHeight | 2308 |
CropLeft | 0.1222 |
CropRight | 0.942974 |
CropTop | 0 |
CropUnit | pixels |
CropWidth | 3178 |
CustomRendered | Normal |
DateTimeDigitized | 2010:09:15 13:54:33.60-07:00 |
DateTimeOriginal (1) | 2010:09:15 13:54:33.60-07:00 |
DateTimeOriginal | 2010:09:15 13:54:33 |
Defringe | 0 |
DigitalZoomRatio | 1 |
DOF | 1.11 m (12.07 - 13.18 m) |
ExifImageHeight | 3178 |
ExifImageWidth | 2308 |
Exposure | 0.00 |
ExposureCompensation | 0 |
ExposureMode | Auto |
ExposureProgram | Aperture-priority AE |
ExposureTime | 1/160 |
FillLight | 18 |
Flash | No Flash |
FlashFired | False |
FlashFunction | False |
FlashMode | Unknown |
FlashRedEyeMode | False |
FlashReturn | No return detection |
FNumber | 7.1 |
FocalLength | 200.0 mm |
FocalLength35efl | 200.0 mm (35 mm equivalent: 300.0 mm) |
FocalLengthIn35mmFormat | 300 mm |
FOV | 6.9 deg |
GainControl | Low gain up |
GradientBasedCorrActive | true |
GradientBasedCorrAmount | 1.000000 |
GradientBasedCorrBrightness | 0.000000 |
GradientBasedCorrClarity | 0.000000 |
GradientBasedCorrContrast | 0.000000 |
GradientBasedCorrExposure | -0.126437 |
GradientBasedCorrHue | 48.000000 |
GradientBasedCorrMaskFullX (1) | 0.546016 |
GradientBasedCorrMaskFullX (2) | 0.550598 |
GradientBasedCorrMaskFullX (3) | 0.007159 |
GradientBasedCorrMaskFullX | -0.007104 |
GradientBasedCorrMaskFullY (1) | 1.050410 |
GradientBasedCorrMaskFullY (2) | 0.310946 |
GradientBasedCorrMaskFullY (3) | 0.320945 |
GradientBasedCorrMaskFullY | 1.055880 |
GradientBasedCorrMaskValue | 1.000000 |
GradientBasedCorrMaskWhat | Mask/Gradient |
GradientBasedCorrMaskZeroX (1) | 0.358476 |
GradientBasedCorrMaskZeroX (2) | 0.340952 |
GradientBasedCorrMaskZeroX (3) | 0.232257 |
GradientBasedCorrMaskZeroX | 0.248747 |
GradientBasedCorrMaskZeroY (1) | 0.684783 |
GradientBasedCorrMaskZeroY (2) | 0.659995 |
GradientBasedCorrMaskZeroY (3) | 0.710289 |
GradientBasedCorrMaskZeroY | 0.671380 |
GradientBasedCorrSaturation | 0.000000 |
GradientBasedCorrSharpness | 0.000000 |
GradientBasedCorrWhat | Correction |
GrainAmount | 0 |
GrayMixerAqua | -18 |
GrayMixerBlue | +10 |
GrayMixerGreen | -27 |
GrayMixerMagenta | +4 |
GrayMixerOrange | -19 |
GrayMixerPurple | +16 |
GrayMixerRed | -10 |
GrayMixerYellow | -23 |
GreenHue | 0 |
GreenSaturation | 0 |
HasCrop | True |
HasSettings | True |
HighlightRecovery | 10 |
HyperfocalDistance | 281.26 m |
ImageHeight | 3178 |
ImageNumber | 3986 |
ImageSize | 2308x3178 |
ImageWidth | 2308 |
ISO | 400 |
Lens | 55.0-200.0 mm f/4.0-5.6 |
LensID (1) | 144 |
LensID | AF-S DX VR Zoom-Nikkor 55-200mm f/4-5.6G IF-ED |
LensInfo | 55-200mm f/4-5.6 |
LensManualDistortionAmount | 0 |
LensModel | 55.0-200.0 mm f/4.0-5.6 |
LensProfileEnable | 0 |
LensProfileSetup | LensDefaults |
LightSource | Unknown |
LightValue | 11.0 |
LuminanceNoiseReductionContrast | 0 |
LuminanceNoiseReductionDetail | 50 |
LuminanceSmoothing | 49 |
Make | NIKON CORPORATION |
MaxApertureValue | 5.7 |
Megapixels | 7.3 |
MeteringMode | Multi-segment |
Model | NIKON D60 |
ModifyDate (1) | 2010:09:16 01:31:34-07:00 |
ModifyDate | 2010:09:16 01:31:34 |
ParametricDarks | 0 |
ParametricHighlights | 0 |
ParametricHighlightSplit | 75 |
ParametricLights | 0 |
ParametricMidtoneSplit | 50 |
ParametricShadows | 0 |
ParametricShadowSplit | 25 |
PerspectiveHorizontal | 0 |
PerspectiveRotate | 0.0 |
PerspectiveScale | 100 |
PerspectiveVertical | 0 |
PostCropVignetteAmount | 0 |
ProcessVersion | 5.7 |
ProfileDescription | sRGB IEC61966-2.1 |
RedHue | 0 |
RedSaturation | 0 |
Saturation | Normal |
ScaleFactor35efl | 1.5 |
SceneCaptureType | Standard |
SceneType | Directly photographed |
SensingMethod | One-chip color area |
SensitivityType | Unknown |
SerialNumber | 6464350 |
Shadows | 7 |
ShadowTint | 0 |
SharpenDetail | 20 |
SharpenEdgeMasking | 70 |
SharpenRadius | +1.2 |
Sharpness (2) | 36 |
Sharpness | Normal |
ShutterSpeed | 1/160 |
ShutterSpeedValue | 1/160 |
Software | Ver.1.01 |
SplitToningBalance | 0 |
SplitToningHighlightHue | 0 |
SplitToningHighlightSaturation | 0 |
SplitToningShadowHue | 0 |
SplitToningShadowSaturation | 0 |
SubjectDistance | 12.6 m |
SubjectDistanceRange | Unknown |
Tint | -7 |
ToneCurve | 0, 0, 32, 22, 64, 56, 128, 128, 192, 196, 255, 255 |
ToneCurveName | Medium Contrast |
Version | 6.2 |
VignetteAmount | 0 |
WhiteBalance (2) | As Shot |
WhiteBalance | Auto |