Felt | Verdi |
AlreadyApplied | True |
Aperture | 2.0 |
ApertureValue | 2.0 |
BitsPerSample | 8 |
BlackClip | 0.024200 |
BlueHue | -76 |
BlueSaturation | +49 |
Brightness | +50 |
CameraProfile | Embedded |
ChromaticAberrationB | 0 |
ChromaticAberrationR | 0 |
Clarity | +4 |
ColorComponents | 3 |
ColorNoiseReduction | 25 |
ColorNoiseReductionDetail | 50 |
ColorSaturation | 60.0 |
ColorTemperature | 2.9 |
Contrast | -2 |
ConvertToGrayscale | False |
CreateDate | 2011:11:08 11:18:11 |
CreatorTool | Adobe Photoshop Lightroom 3.4.1 |
CropAngle | 0 |
CropBottom | 1 |
CropConstrainToWarp | 0 |
CropHeight | 727 |
CropLeft | 0.132073 |
CropRight | 1 |
CropTop | 0 |
CropUnit | pixels |
CropWidth | 800 |
DateCreated (1) | 2011:11:08 |
DateCreated | 2011:11:08 11:18:11 |
DateTimeOriginal | 2011:11:08 11:18:11 |
Defringe | 0 |
Exposure | -0.95 |
ExposureTime | 1/60 |
FillLight | 0 |
FNumber | 2.0 |
Gamma | 1.2 |
GrainAmount | 0 |
GreenHue | -77 |
GreenSaturation | -68 |
HasCrop | True |
HasSettings | True |
HighlightRecovery | 31 |
HighlightsSmoothing | 0.0 |
HueAdjustmentAqua | 0 |
HueAdjustmentBlue | 0 |
HueAdjustmentGreen | 0 |
HueAdjustmentMagenta | 0 |
HueAdjustmentOrange | 0 |
HueAdjustmentPurple | 0 |
HueAdjustmentRed | 0 |
HueAdjustmentYellow | 0 |
ImageHeight | 727 |
ImageSize | 800x727 |
ImageWidth | 800 |
IncrementalTemperature | 0 |
IncrementalTint | 0 |
ISO | 160 |
LensManualDistortionAmount | 0 |
LensProfileEnable | 0 |
LensProfileSetup | LensDefaults |
LightValue | 7.2 |
LuminanceAdjustmentAqua | 0 |
LuminanceAdjustmentBlue | 0 |
LuminanceAdjustmentGreen | 0 |
LuminanceAdjustmentMagenta | 0 |
LuminanceAdjustmentOrange | 0 |
LuminanceAdjustmentPurple | 0 |
LuminanceAdjustmentRed | 0 |
LuminanceAdjustmentYellow | 0 |
LuminanceSmoothing | 0 |
Luminosity | -4.1 |
Megapixels | 0.582 |
Method | Details Enhancer |
Microcontrast | 0.3 |
Microsmoothing | 2.0 |
Model | M8 Digital Camera |
ModifyDate (1) | 2011:12:09 18:13:43+01:00 |
ModifyDate | 2011:12:09 18:13:43 |
PaintCorrectionActive | true |
PaintCorrectionAmount | 1.000000 |
PaintCorrectionBrightness (1) | 0.079009 |
PaintCorrectionBrightness | -0.172759 |
PaintCorrectionClarity (1) | 0.735849 |
PaintCorrectionClarity | -0.044001 |
PaintCorrectionContrast | 0.000000 |
PaintCorrectionExposure (1) | 0.092571 |
PaintCorrectionExposure | -0.083726 |
PaintCorrectionHue | 57.000000 |
PaintCorrectionMaskCenterWeight | 0.146956 |
PaintCorrectionMaskFlow | 0.974831 |
PaintCorrectionMaskRadius (1) | 0.049954 |
PaintCorrectionMaskRadius | 0.138477 |
PaintCorrectionMaskValue | 1.000000 |
PaintCorrectionMaskWhat | Mask/Paint |
PaintCorrectionSaturation (1) | 0.056604 |
PaintCorrectionSaturation (3) | -0.251548 |
PaintCorrectionSaturation | 0.000000 |
PaintCorrectionSharpness | 0.000000 |
PaintCorrectionWhat | Correction |
ParametricDarks | 0 |
ParametricHighlights | 0 |
ParametricHighlightSplit | 75 |
ParametricLights | 0 |
ParametricMidtoneSplit | 50 |
ParametricShadows | 0 |
ParametricShadowSplit | 25 |
PerspectiveHorizontal | 0 |
PerspectiveRotate | 0.0 |
PerspectiveScale | 100 |
PerspectiveVertical | 0 |
PostCropVignetteAmount | +1 |
PostCropVignetteFeather | 50 |
PostCropVignetteMidpoint | 52 |
PostCropVignetteRoundness | +5 |
PostCropVignetteStyle | 1 |
ProcessVersion | 5.7 |
ProfileDescription | sRGB IEC61966-2.1 |
RedHue | +25 |
RedSaturation | -100 |
Saturation | -62 |
SaturationAdjustmentAqua | 0 |
SaturationAdjustmentBlue | 0 |
SaturationAdjustmentGreen | 0 |
SaturationAdjustmentMagenta | 0 |
SaturationAdjustmentOrange | 0 |
SaturationAdjustmentPurple | 0 |
SaturationAdjustmentRed | 0 |
SaturationAdjustmentYellow | 0 |
SaturationHighlights | -1.7 |
SaturationShadows | 0.7 |
Shadows | 6 |
ShadowsClipping | 0.0 |
ShadowsSmoothing | 0.0 |
ShadowTint | 0 |
SharpenDetail | 25 |
SharpenEdgeMasking | 0 |
SharpenRadius | +1.0 |
Sharpness | 25 |
ShutterSpeed | 1/60 |
ShutterSpeedValue | 1/60 |
Smoothing | Very High |
SmoothingMode | Light |
Software | Adobe Photoshop Lightroom 3.4.1 |
SplitToningBalance | 0 |
SplitToningHighlightHue | 0 |
SplitToningHighlightSaturation | 0 |
SplitToningShadowHue | 0 |
SplitToningShadowSaturation | 0 |
Strength | 70.0 |
ToneCurve | 0, 0, 32, 22, 64, 56, 128, 128, 192, 196, 255, 255 |
ToneCurveName | Medium Contrast |
Version (1) | 3.2 |
Version | 6.4.1 |
Vibrance | +39 |
VignetteAmount | 0 |
WhiteBalance | As Shot |
WhiteClip | 0.304650 |