Felt | Verdi |
AlreadyApplied | True |
Aperture | 2.8 |
ApertureValue | 2.8 |
ApproximateFocusDistance | 4294967295 |
AutoLateralCA | 1 |
BitsPerSample (1) | 16 16 16 |
BitsPerSample | 8 |
Blacks2012 | -7 |
BlueHue | 0 |
BlueSaturation | 0 |
CameraProfile | Adobe Standard |
CircleOfConfusion | 0.019 mm |
Clarity2012 | +21 |
ColorComponents | 3 |
ColorMode | RGB |
ColorNoiseReduction | 25 |
ColorNoiseReductionDetail | 50 |
ColorSpace | Uncalibrated |
ColorTemperature | 8800 |
Contrast2012 | +26 |
ConvertToGrayscale | False |
CreateDate (1) | 2013:01:20 12:05:12.00 |
CreateDate | 2013:01:20 12:05:12 |
CreatorTool | Adobe Photoshop Lightroom 4.3 (Windows) |
CropAngle | 0.17818 |
CropBottom | 0.996369 |
CropConstrainToWarp | 0 |
CropHeight | 2561 |
CropLeft | 0.00696 |
CropRight | 0.99304 |
CropTop | 0.003631 |
CropUnit | pixels |
CropWidth | 3842 |
CustomRendered | Normal |
DateCreated (1) | 2013:01:20 |
DateCreated | 2013:01:20 12:05:12 |
DateTimeOriginal | 2013:01:20 12:05:12 |
DefringeGreenAmount | 0 |
DefringeGreenHueHi | 60 |
DefringeGreenHueLo | 40 |
DefringePurpleAmount | 0 |
DefringePurpleHueHi | 70 |
DefringePurpleHueLo | 30 |
DOF | inf (14.03 m - inf) |
ExifImageHeight | 2548 |
ExifImageWidth | 3822 |
Exposure2012 | -0.24 |
ExposureCompensation | 0 |
ExposureMode | Manual |
ExposureProgram | Manual |
ExposureTime | 1/160 |
Firmware | 1.0.4 |
Flash | Off, Did not fire |
FlashCompensation | 0 |
FNumber | 2.8 |
FocalLength | 27.0 mm |
FocalLength35efl | 27.0 mm (35 mm equivalent: 43.7 mm) |
Format | image/jpeg |
FOV | 44.8 deg |
GradientBasedCorrActive | true |
GradientBasedCorrAmount | 1.000000 |
GradientBasedCorrBrightness | 0.000000 |
GradientBasedCorrClarity2012 (1) | 0.357140 |
GradientBasedCorrClarity2012 | 0.190480 |
GradientBasedCorrContrast2012 (1) | 0.238100 |
GradientBasedCorrContrast2012 | 0.142860 |
GradientBasedCorrDefringe | 0.000000 |
GradientBasedCorrExposure2012 (1) | -0.071500 |
GradientBasedCorrExposure2012 | 0.071500 |
GradientBasedCorrHighlights2012 (1) | -0.142860 |
GradientBasedCorrHighlights2012 | 0.261900 |
GradientBasedCorrHue (1) | 21.000000 |
GradientBasedCorrHue | 240.000000 |
GradientBasedCorrLuminanceNoise | 0.309520 |
GradientBasedCorrMaskFullX (1) | 0.458002 |
GradientBasedCorrMaskFullX | 0.457118 |
GradientBasedCorrMaskFullY (1) | 0.531830 |
GradientBasedCorrMaskFullY | 0.713528 |
GradientBasedCorrMaskValue | 1.000000 |
GradientBasedCorrMaskWhat | Mask/Gradient |
GradientBasedCorrMaskZeroX (1) | 0.460654 |
GradientBasedCorrMaskZeroX | 0.455349 |
GradientBasedCorrMaskZeroY (1) | 0.652520 |
GradientBasedCorrMaskZeroY | 0.635279 |
GradientBasedCorrMoire (1) | 0.023810 |
GradientBasedCorrMoire | 0.000000 |
GradientBasedCorrSaturation (2) | 0.320000 |
GradientBasedCorrSaturation (3) | 0.190480 |
GradientBasedCorrSaturation | 0.000000 |
GradientBasedCorrShadows2012 (1) | -0.285710 |
GradientBasedCorrShadows2012 | 0.333330 |
GradientBasedCorrSharpness (1) | 0.190480 |
GradientBasedCorrSharpness | 0.285710 |
GradientBasedCorrTemperature | -0.023810 |
GradientBasedCorrTint | 0.000000 |
GradientBasedCorrWhat | Correction |
GrainAmount | 0 |
GreenHue | 0 |
GreenSaturation | 0 |
HasCrop | True |
HasSettings | True |
Highlights2012 | -7 |
HueAdjustmentAqua | 0 |
HueAdjustmentBlue | 0 |
HueAdjustmentGreen | 0 |
HueAdjustmentMagenta | 0 |
HueAdjustmentOrange | 0 |
HueAdjustmentPurple | 0 |
HueAdjustmentRed | 0 |
HueAdjustmentYellow | 0 |
HyperfocalDistance | 14.03 m |
ICCProfileName | ProPhoto RGB |
ImageHeight (1) | 2561 |
ImageHeight | 2548 |
ImageNumber | 0 |
ImageSize | 3822x2548 |
ImageWidth (1) | 3842 |
ImageWidth | 3822 |
ISO | 100 |
Lens | EF16-35mm f/2.8L II USM |
LensID (1) | 246 |
LensID | Canon EF 16-35mm f/2.8L II USM |
LensInfo | 16-35mm f/? |
LensManualDistortionAmount | 0 |
LensModel | EF16-35mm f/2.8L II USM |
LensProfileEnable | 0 |
LensProfileSetup | LensDefaults |
LightValue | 10.3 |
LuminanceAdjustmentAqua | 0 |
LuminanceAdjustmentBlue | 0 |
LuminanceAdjustmentGreen | 0 |
LuminanceAdjustmentMagenta | 0 |
LuminanceAdjustmentOrange | -7 |
LuminanceAdjustmentPurple | 0 |
LuminanceAdjustmentRed | 0 |
LuminanceAdjustmentYellow | 0 |
LuminanceNoiseReductionContrast | 81 |
LuminanceNoiseReductionDetail | 100 |
LuminanceSmoothing | 26 |
Make | Canon |
MaxApertureValue | 2.8 |
Megapixels | 9.7 |
MeteringMode | Spot |
Model | Canon EOS 40D |
ModifyDate (1) | 2013:01:20 14:36+01:00 |
ModifyDate | 2013:01:20 14:36:00 |
Orientation | Horizontal (normal) |
ParametricDarks | -5 |
ParametricHighlights | +13 |
ParametricHighlightSplit | 75 |
ParametricLights | -3 |
ParametricMidtoneSplit | 50 |
ParametricShadows | +9 |
ParametricShadowSplit | 25 |
PerspectiveHorizontal | 0 |
PerspectiveRotate | 0.0 |
PerspectiveScale | 100 |
PerspectiveVertical | 0 |
PhotometricInterpretation | RGB |
PlanarConfiguration | Chunky |
PostCropVignetteAmount | -17 |
PostCropVignetteFeather | 50 |
PostCropVignetteHighlightContrast | 0 |
PostCropVignetteMidpoint | 50 |
PostCropVignetteRoundness | 0 |
PostCropVignetteStyle | 1 |
ProcessVersion | 6.7 |
ProfileDescription | ProPhoto RGB |
RedHue | 0 |
RedSaturation | 0 |
Saturation | -10 |
SaturationAdjustmentAqua | 0 |
SaturationAdjustmentBlue | 0 |
SaturationAdjustmentGreen | 0 |
SaturationAdjustmentMagenta | 0 |
SaturationAdjustmentOrange | +9 |
SaturationAdjustmentPurple | -2 |
SaturationAdjustmentRed | 0 |
SaturationAdjustmentYellow | 0 |
ScaleFactor35efl | 1.6 |
SceneCaptureType | Standard |
SerialNumber | 630331346 |
Shadows2012 | +31 |
ShadowTint | 0 |
SharpenDetail | 58 |
SharpenEdgeMasking | 67 |
SharpenRadius | +1.0 |
Sharpness | 87 |
ShutterSpeed | 1/160 |
ShutterSpeedValue | 1/160 |
Software | Adobe Photoshop CS5.1 Windows |
SplitToningBalance | 0 |
SplitToningHighlightHue | 37 |
SplitToningHighlightSaturation | 25 |
SplitToningShadowHue | 215 |
SplitToningShadowSaturation | 12 |
Tint | -14 |
ToneCurveName2012 | Linear |
ToneCurvePV2012 | 0, 0, 255, 255 |
ToneCurvePV2012Blue | 0, 0, 255, 255 |
ToneCurvePV2012Green | 0, 0, 255, 255 |
ToneCurvePV2012Red | 0, 0, 255, 255 |
URL_List | |
Version | 7.3 |
Vibrance | +21 |
VignetteAmount | 0 |
WhiteBalance (1) | Custom |
WhiteBalance | Auto |
Whites2012 | +2 |